BEGIN:VCALENDAR
VERSION:2.0
PRODID:-//Berlin First Baptist Church - ECPv6.13.0//NONSGML v1.0//EN
CALSCALE:GREGORIAN
METHOD:PUBLISH
X-WR-CALNAME:Berlin First Baptist Church
X-ORIGINAL-URL:https://berlinfirstbaptist.com
X-WR-CALDESC:Events for Berlin First Baptist Church
REFRESH-INTERVAL;VALUE=DURATION:PT1H
X-Robots-Tag:noindex
X-PUBLISHED-TTL:PT1H
BEGIN:VTIMEZONE
TZID:America/New_York
BEGIN:DAYLIGHT
TZOFFSETFROM:-0500
TZOFFSETTO:-0400
TZNAME:EDT
DTSTART:20240310T070000
END:DAYLIGHT
BEGIN:STANDARD
TZOFFSETFROM:-0400
TZOFFSETTO:-0500
TZNAME:EST
DTSTART:20241103T060000
END:STANDARD
END:VTIMEZONE
BEGIN:VEVENT
DTSTART;TZID=America/New_York:20240417T173000
DTEND;TZID=America/New_York:20240417T173000
DTSTAMP:20260424T050619
CREATED:20240131T165418Z
LAST-MODIFIED:20240508T142717Z
UID:10000014-1713375000-1713375000@berlinfirstbaptist.com
SUMMARY:AWANA
DESCRIPTION:AWANA is for children from Pre-K to 5th Grade. Children will learn about Jesus as their Savior\, do crafts\, play games\, and much more. \n 
URL:https://berlinfirstbaptist.com/event/reset-awana/2024-04-17/
LOCATION:Berlin First Baptist Church\, 613 William St\, Berlin\, MD\, 21811\, United States
END:VEVENT
BEGIN:VEVENT
DTSTART;TZID=America/New_York:20240410T173000
DTEND;TZID=America/New_York:20240410T190000
DTSTAMP:20260424T050619
CREATED:20240131T185540Z
LAST-MODIFIED:20241115T032843Z
UID:10000843-1712770200-1712775600@berlinfirstbaptist.com
SUMMARY:Reset (student ministry)
DESCRIPTION:6th-12th grades- join us for food\, games\, and fun while we grow together in our relationship with Jesus
URL:https://berlinfirstbaptist.com/event/reset-only/2024-04-10/
LOCATION:Berlin First Baptist Church\, 613 William St\, Berlin\, MD\, 21811\, United States
END:VEVENT
BEGIN:VEVENT
DTSTART;TZID=America/New_York:20240410T173000
DTEND;TZID=America/New_York:20240410T173000
DTSTAMP:20260424T050619
CREATED:20240131T165418Z
LAST-MODIFIED:20240508T142717Z
UID:10000013-1712770200-1712770200@berlinfirstbaptist.com
SUMMARY:AWANA
DESCRIPTION:AWANA is for children from Pre-K to 5th Grade. Children will learn about Jesus as their Savior\, do crafts\, play games\, and much more. \n 
URL:https://berlinfirstbaptist.com/event/reset-awana/2024-04-10/
LOCATION:Berlin First Baptist Church\, 613 William St\, Berlin\, MD\, 21811\, United States
END:VEVENT
BEGIN:VEVENT
DTSTART;TZID=America/New_York:20240403T173000
DTEND;TZID=America/New_York:20240403T190000
DTSTAMP:20260424T050619
CREATED:20240131T185540Z
LAST-MODIFIED:20241115T032843Z
UID:10000842-1712165400-1712170800@berlinfirstbaptist.com
SUMMARY:Reset (student ministry)
DESCRIPTION:6th-12th grades- join us for food\, games\, and fun while we grow together in our relationship with Jesus
URL:https://berlinfirstbaptist.com/event/reset-only/2024-04-03/
LOCATION:Berlin First Baptist Church\, 613 William St\, Berlin\, MD\, 21811\, United States
END:VEVENT
BEGIN:VEVENT
DTSTART;TZID=America/New_York:20240403T173000
DTEND;TZID=America/New_York:20240403T173000
DTSTAMP:20260424T050619
CREATED:20240131T165418Z
LAST-MODIFIED:20240508T142717Z
UID:10000012-1712165400-1712165400@berlinfirstbaptist.com
SUMMARY:AWANA
DESCRIPTION:AWANA is for children from Pre-K to 5th Grade. Children will learn about Jesus as their Savior\, do crafts\, play games\, and much more. \n 
URL:https://berlinfirstbaptist.com/event/reset-awana/2024-04-03/
LOCATION:Berlin First Baptist Church\, 613 William St\, Berlin\, MD\, 21811\, United States
END:VEVENT
BEGIN:VEVENT
DTSTART;TZID=America/New_York:20240327T173000
DTEND;TZID=America/New_York:20240327T190000
DTSTAMP:20260424T050619
CREATED:20240131T185540Z
LAST-MODIFIED:20241115T032843Z
UID:10000841-1711560600-1711566000@berlinfirstbaptist.com
SUMMARY:Reset (student ministry)
DESCRIPTION:6th-12th grades- join us for food\, games\, and fun while we grow together in our relationship with Jesus
URL:https://berlinfirstbaptist.com/event/reset-only/2024-03-27/
LOCATION:Berlin First Baptist Church\, 613 William St\, Berlin\, MD\, 21811\, United States
END:VEVENT
BEGIN:VEVENT
DTSTART;TZID=America/New_York:20240327T173000
DTEND;TZID=America/New_York:20240327T173000
DTSTAMP:20260424T050619
CREATED:20240131T165418Z
LAST-MODIFIED:20240508T142717Z
UID:10000011-1711560600-1711560600@berlinfirstbaptist.com
SUMMARY:AWANA
DESCRIPTION:AWANA is for children from Pre-K to 5th Grade. Children will learn about Jesus as their Savior\, do crafts\, play games\, and much more. \n 
URL:https://berlinfirstbaptist.com/event/reset-awana/2024-03-27/
LOCATION:Berlin First Baptist Church\, 613 William St\, Berlin\, MD\, 21811\, United States
END:VEVENT
BEGIN:VEVENT
DTSTART;TZID=America/New_York:20240320T173000
DTEND;TZID=America/New_York:20240320T190000
DTSTAMP:20260424T050619
CREATED:20240131T185540Z
LAST-MODIFIED:20241115T032843Z
UID:10000840-1710955800-1710961200@berlinfirstbaptist.com
SUMMARY:Reset (student ministry)
DESCRIPTION:6th-12th grades- join us for food\, games\, and fun while we grow together in our relationship with Jesus
URL:https://berlinfirstbaptist.com/event/reset-only/2024-03-20/
LOCATION:Berlin First Baptist Church\, 613 William St\, Berlin\, MD\, 21811\, United States
END:VEVENT
BEGIN:VEVENT
DTSTART;TZID=America/New_York:20240320T173000
DTEND;TZID=America/New_York:20240320T173000
DTSTAMP:20260424T050619
CREATED:20240131T165418Z
LAST-MODIFIED:20240508T142717Z
UID:10000010-1710955800-1710955800@berlinfirstbaptist.com
SUMMARY:AWANA
DESCRIPTION:AWANA is for children from Pre-K to 5th Grade. Children will learn about Jesus as their Savior\, do crafts\, play games\, and much more. \n 
URL:https://berlinfirstbaptist.com/event/reset-awana/2024-03-20/
LOCATION:Berlin First Baptist Church\, 613 William St\, Berlin\, MD\, 21811\, United States
END:VEVENT
BEGIN:VEVENT
DTSTART;TZID=America/New_York:20240313T173000
DTEND;TZID=America/New_York:20240313T190000
DTSTAMP:20260424T050619
CREATED:20240131T185540Z
LAST-MODIFIED:20241115T032843Z
UID:10000839-1710351000-1710356400@berlinfirstbaptist.com
SUMMARY:Reset (student ministry)
DESCRIPTION:6th-12th grades- join us for food\, games\, and fun while we grow together in our relationship with Jesus
URL:https://berlinfirstbaptist.com/event/reset-only/2024-03-13/
LOCATION:Berlin First Baptist Church\, 613 William St\, Berlin\, MD\, 21811\, United States
END:VEVENT
BEGIN:VEVENT
DTSTART;TZID=America/New_York:20240313T173000
DTEND;TZID=America/New_York:20240313T173000
DTSTAMP:20260424T050619
CREATED:20240131T165418Z
LAST-MODIFIED:20240508T142717Z
UID:10000009-1710351000-1710351000@berlinfirstbaptist.com
SUMMARY:AWANA
DESCRIPTION:AWANA is for children from Pre-K to 5th Grade. Children will learn about Jesus as their Savior\, do crafts\, play games\, and much more. \n 
URL:https://berlinfirstbaptist.com/event/reset-awana/2024-03-13/
LOCATION:Berlin First Baptist Church\, 613 William St\, Berlin\, MD\, 21811\, United States
END:VEVENT
BEGIN:VEVENT
DTSTART;TZID=America/New_York:20240306T173000
DTEND;TZID=America/New_York:20240306T190000
DTSTAMP:20260424T050619
CREATED:20240131T185540Z
LAST-MODIFIED:20241115T032843Z
UID:10000838-1709746200-1709751600@berlinfirstbaptist.com
SUMMARY:Reset (student ministry)
DESCRIPTION:6th-12th grades- join us for food\, games\, and fun while we grow together in our relationship with Jesus
URL:https://berlinfirstbaptist.com/event/reset-only/2024-03-06/
LOCATION:Berlin First Baptist Church\, 613 William St\, Berlin\, MD\, 21811\, United States
END:VEVENT
BEGIN:VEVENT
DTSTART;TZID=America/New_York:20240306T173000
DTEND;TZID=America/New_York:20240306T173000
DTSTAMP:20260424T050619
CREATED:20240131T165418Z
LAST-MODIFIED:20240508T142717Z
UID:10000008-1709746200-1709746200@berlinfirstbaptist.com
SUMMARY:AWANA
DESCRIPTION:AWANA is for children from Pre-K to 5th Grade. Children will learn about Jesus as their Savior\, do crafts\, play games\, and much more. \n 
URL:https://berlinfirstbaptist.com/event/reset-awana/2024-03-06/
LOCATION:Berlin First Baptist Church\, 613 William St\, Berlin\, MD\, 21811\, United States
END:VEVENT
BEGIN:VEVENT
DTSTART;TZID=America/New_York:20240228T173000
DTEND;TZID=America/New_York:20240228T190000
DTSTAMP:20260424T050619
CREATED:20240131T185540Z
LAST-MODIFIED:20241115T032843Z
UID:10000837-1709141400-1709146800@berlinfirstbaptist.com
SUMMARY:Reset (student ministry)
DESCRIPTION:6th-12th grades- join us for food\, games\, and fun while we grow together in our relationship with Jesus
URL:https://berlinfirstbaptist.com/event/reset-only/2024-02-28/
LOCATION:Berlin First Baptist Church\, 613 William St\, Berlin\, MD\, 21811\, United States
END:VEVENT
BEGIN:VEVENT
DTSTART;TZID=America/New_York:20240228T173000
DTEND;TZID=America/New_York:20240228T173000
DTSTAMP:20260424T050619
CREATED:20240131T165418Z
LAST-MODIFIED:20240508T142717Z
UID:10000007-1709141400-1709141400@berlinfirstbaptist.com
SUMMARY:AWANA
DESCRIPTION:AWANA is for children from Pre-K to 5th Grade. Children will learn about Jesus as their Savior\, do crafts\, play games\, and much more. \n 
URL:https://berlinfirstbaptist.com/event/reset-awana/2024-02-28/
LOCATION:Berlin First Baptist Church\, 613 William St\, Berlin\, MD\, 21811\, United States
END:VEVENT
BEGIN:VEVENT
DTSTART;TZID=America/New_York:20240221T173000
DTEND;TZID=America/New_York:20240221T190000
DTSTAMP:20260424T050619
CREATED:20240131T185540Z
LAST-MODIFIED:20241115T032843Z
UID:10000836-1708536600-1708542000@berlinfirstbaptist.com
SUMMARY:Reset (student ministry)
DESCRIPTION:6th-12th grades- join us for food\, games\, and fun while we grow together in our relationship with Jesus
URL:https://berlinfirstbaptist.com/event/reset-only/2024-02-21/
LOCATION:Berlin First Baptist Church\, 613 William St\, Berlin\, MD\, 21811\, United States
END:VEVENT
BEGIN:VEVENT
DTSTART;TZID=America/New_York:20240221T173000
DTEND;TZID=America/New_York:20240221T173000
DTSTAMP:20260424T050619
CREATED:20240131T165418Z
LAST-MODIFIED:20240508T142717Z
UID:10000006-1708536600-1708536600@berlinfirstbaptist.com
SUMMARY:AWANA
DESCRIPTION:AWANA is for children from Pre-K to 5th Grade. Children will learn about Jesus as their Savior\, do crafts\, play games\, and much more. \n 
URL:https://berlinfirstbaptist.com/event/reset-awana/2024-02-21/
LOCATION:Berlin First Baptist Church\, 613 William St\, Berlin\, MD\, 21811\, United States
END:VEVENT
BEGIN:VEVENT
DTSTART;TZID=America/New_York:20240214T173000
DTEND;TZID=America/New_York:20240214T190000
DTSTAMP:20260424T050619
CREATED:20240131T185540Z
LAST-MODIFIED:20241115T032843Z
UID:10000835-1707931800-1707937200@berlinfirstbaptist.com
SUMMARY:Reset (student ministry)
DESCRIPTION:6th-12th grades- join us for food\, games\, and fun while we grow together in our relationship with Jesus
URL:https://berlinfirstbaptist.com/event/reset-only/2024-02-14/
LOCATION:Berlin First Baptist Church\, 613 William St\, Berlin\, MD\, 21811\, United States
END:VEVENT
BEGIN:VEVENT
DTSTART;TZID=America/New_York:20240214T173000
DTEND;TZID=America/New_York:20240214T173000
DTSTAMP:20260424T050619
CREATED:20240131T165418Z
LAST-MODIFIED:20240508T142717Z
UID:10000005-1707931800-1707931800@berlinfirstbaptist.com
SUMMARY:AWANA
DESCRIPTION:AWANA is for children from Pre-K to 5th Grade. Children will learn about Jesus as their Savior\, do crafts\, play games\, and much more. \n 
URL:https://berlinfirstbaptist.com/event/reset-awana/2024-02-14/
LOCATION:Berlin First Baptist Church\, 613 William St\, Berlin\, MD\, 21811\, United States
END:VEVENT
BEGIN:VEVENT
DTSTART;TZID=America/New_York:20240207T173000
DTEND;TZID=America/New_York:20240207T190000
DTSTAMP:20260424T050619
CREATED:20240131T185540Z
LAST-MODIFIED:20241115T032843Z
UID:10000834-1707327000-1707332400@berlinfirstbaptist.com
SUMMARY:Reset (student ministry)
DESCRIPTION:6th-12th grades- join us for food\, games\, and fun while we grow together in our relationship with Jesus
URL:https://berlinfirstbaptist.com/event/reset-only/2024-02-07/
LOCATION:Berlin First Baptist Church\, 613 William St\, Berlin\, MD\, 21811\, United States
END:VEVENT
BEGIN:VEVENT
DTSTART;TZID=America/New_York:20240207T173000
DTEND;TZID=America/New_York:20240207T173000
DTSTAMP:20260424T050619
CREATED:20240131T165418Z
LAST-MODIFIED:20240508T142717Z
UID:10000004-1707327000-1707327000@berlinfirstbaptist.com
SUMMARY:AWANA
DESCRIPTION:AWANA is for children from Pre-K to 5th Grade. Children will learn about Jesus as their Savior\, do crafts\, play games\, and much more. \n 
URL:https://berlinfirstbaptist.com/event/reset-awana/2024-02-07/
LOCATION:Berlin First Baptist Church\, 613 William St\, Berlin\, MD\, 21811\, United States
END:VEVENT
BEGIN:VEVENT
DTSTART;TZID=America/New_York:20240131T173000
DTEND;TZID=America/New_York:20240131T190000
DTSTAMP:20260424T050619
CREATED:20240131T185540Z
LAST-MODIFIED:20241115T032843Z
UID:10000833-1706722200-1706727600@berlinfirstbaptist.com
SUMMARY:Reset (student ministry)
DESCRIPTION:6th-12th grades- join us for food\, games\, and fun while we grow together in our relationship with Jesus
URL:https://berlinfirstbaptist.com/event/reset-only/2024-01-31/
LOCATION:Berlin First Baptist Church\, 613 William St\, Berlin\, MD\, 21811\, United States
END:VEVENT
BEGIN:VEVENT
DTSTART;TZID=America/New_York:20240131T173000
DTEND;TZID=America/New_York:20240131T173000
DTSTAMP:20260424T050619
CREATED:20240131T165418Z
LAST-MODIFIED:20240508T142717Z
UID:10000003-1706722200-1706722200@berlinfirstbaptist.com
SUMMARY:AWANA
DESCRIPTION:AWANA is for children from Pre-K to 5th Grade. Children will learn about Jesus as their Savior\, do crafts\, play games\, and much more. \n 
URL:https://berlinfirstbaptist.com/event/reset-awana/2024-01-31/2/
LOCATION:Berlin First Baptist Church\, 613 William St\, Berlin\, MD\, 21811\, United States
END:VEVENT
BEGIN:VEVENT
DTSTART;TZID=America/New_York:20240131T080000
DTEND;TZID=America/New_York:20240131T170000
DTSTAMP:20260424T050619
CREATED:20240131T165418Z
LAST-MODIFIED:20240508T142717Z
UID:10000812-1706688000-1706720400@berlinfirstbaptist.com
SUMMARY:AWANA
DESCRIPTION:AWANA is for children from Pre-K to 5th Grade. Children will learn about Jesus as their Savior\, do crafts\, play games\, and much more. \n 
URL:https://berlinfirstbaptist.com/event/reset-awana/2024-01-31/1/
LOCATION:Berlin First Baptist Church\, 613 William St\, Berlin\, MD\, 21811\, United States
END:VEVENT
BEGIN:VEVENT
DTSTART;TZID=America/New_York:20240124T173000
DTEND;TZID=America/New_York:20240124T190000
DTSTAMP:20260424T050619
CREATED:20240131T185540Z
LAST-MODIFIED:20241115T032843Z
UID:10000832-1706117400-1706122800@berlinfirstbaptist.com
SUMMARY:Reset (student ministry)
DESCRIPTION:6th-12th grades- join us for food\, games\, and fun while we grow together in our relationship with Jesus
URL:https://berlinfirstbaptist.com/event/reset-only/2024-01-24/
LOCATION:Berlin First Baptist Church\, 613 William St\, Berlin\, MD\, 21811\, United States
END:VEVENT
BEGIN:VEVENT
DTSTART;TZID=America/New_York:20240117T173000
DTEND;TZID=America/New_York:20240117T190000
DTSTAMP:20260424T050619
CREATED:20240131T185540Z
LAST-MODIFIED:20241115T032843Z
UID:10000831-1705512600-1705518000@berlinfirstbaptist.com
SUMMARY:Reset (student ministry)
DESCRIPTION:6th-12th grades- join us for food\, games\, and fun while we grow together in our relationship with Jesus
URL:https://berlinfirstbaptist.com/event/reset-only/2024-01-17/
LOCATION:Berlin First Baptist Church\, 613 William St\, Berlin\, MD\, 21811\, United States
END:VEVENT
BEGIN:VEVENT
DTSTART;TZID=America/New_York:20240110T173000
DTEND;TZID=America/New_York:20240110T190000
DTSTAMP:20260424T050619
CREATED:20240131T185540Z
LAST-MODIFIED:20241115T032843Z
UID:10000830-1704907800-1704913200@berlinfirstbaptist.com
SUMMARY:Reset (student ministry)
DESCRIPTION:6th-12th grades- join us for food\, games\, and fun while we grow together in our relationship with Jesus
URL:https://berlinfirstbaptist.com/event/reset-only/2024-01-10/
LOCATION:Berlin First Baptist Church\, 613 William St\, Berlin\, MD\, 21811\, United States
END:VEVENT
BEGIN:VEVENT
DTSTART;TZID=America/New_York:20240103T173000
DTEND;TZID=America/New_York:20240103T190000
DTSTAMP:20260424T050619
CREATED:20240131T185540Z
LAST-MODIFIED:20241115T032843Z
UID:10000829-1704303000-1704308400@berlinfirstbaptist.com
SUMMARY:Reset (student ministry)
DESCRIPTION:6th-12th grades- join us for food\, games\, and fun while we grow together in our relationship with Jesus
URL:https://berlinfirstbaptist.com/event/reset-only/2024-01-03/
LOCATION:Berlin First Baptist Church\, 613 William St\, Berlin\, MD\, 21811\, United States
END:VEVENT
END:VCALENDAR