BEGIN:VCALENDAR
VERSION:2.0
PRODID:-//Berlin First Baptist Church - ECPv6.13.0//NONSGML v1.0//EN
CALSCALE:GREGORIAN
METHOD:PUBLISH
X-ORIGINAL-URL:https://berlinfirstbaptist.com
X-WR-CALDESC:Events for Berlin First Baptist Church
REFRESH-INTERVAL;VALUE=DURATION:PT1H
X-Robots-Tag:noindex
X-PUBLISHED-TTL:PT1H
BEGIN:VTIMEZONE
TZID:America/New_York
BEGIN:DAYLIGHT
TZOFFSETFROM:-0500
TZOFFSETTO:-0400
TZNAME:EDT
DTSTART:20250309T070000
END:DAYLIGHT
BEGIN:STANDARD
TZOFFSETFROM:-0400
TZOFFSETTO:-0500
TZNAME:EST
DTSTART:20251102T060000
END:STANDARD
END:VTIMEZONE
BEGIN:VEVENT
DTSTART;TZID=America/New_York:20251102T090000
DTEND;TZID=America/New_York:20251102T100000
DTSTAMP:20260425T160446
CREATED:20240131T165812Z
LAST-MODIFIED:20240131T165812Z
UID:10000115-1762074000-1762077600@berlinfirstbaptist.com
SUMMARY:Sunday School
DESCRIPTION:We divide up into men\, women\, children\, and teens and teach through scripture verse by verse.
URL:https://berlinfirstbaptist.com/event/sunday-school/2025-11-02/
END:VEVENT
BEGIN:VEVENT
DTSTART;TZID=America/New_York:20251102T101500
DTEND;TZID=America/New_York:20251102T113000
DTSTAMP:20260425T160446
CREATED:20240131T170514Z
LAST-MODIFIED:20250824T122301Z
UID:10000380-1762078500-1762083000@berlinfirstbaptist.com
SUMMARY:Worship Service
DESCRIPTION:Join us as we worship together and study verse by verse through the Bible each Sunday morning. Nursery and Truth Seekers available for children 3rd grade and under. Disability accommodations are provided as well.
URL:https://berlinfirstbaptist.com/event/worship-service/2025-11-02/
END:VEVENT
BEGIN:VEVENT
DTSTART;TZID=America/New_York:20251102T113000
DTEND;TZID=America/New_York:20251102T120000
DTSTAMP:20260425T160446
CREATED:20250205T002541Z
LAST-MODIFIED:20250205T002541Z
UID:10001506-1762083000-1762084800@berlinfirstbaptist.com
SUMMARY:Business Meeting
DESCRIPTION:Members\, join us for a business meeting directly after the worship service.
URL:https://berlinfirstbaptist.com/event/business-meeting-4/
END:VEVENT
BEGIN:VEVENT
DTSTART;TZID=America/New_York:20251102T170000
DTEND;TZID=America/New_York:20251102T180000
DTSTAMP:20260425T160446
CREATED:20250126T185047Z
LAST-MODIFIED:20250126T185047Z
UID:10001429-1762102800-1762106400@berlinfirstbaptist.com
SUMMARY:Prayer Meeting
DESCRIPTION:Join us as we pray and praise.
URL:https://berlinfirstbaptist.com/event/prayer-meeting-2-2/2025-11-02/
END:VEVENT
BEGIN:VEVENT
DTSTART;TZID=America/New_York:20251104T090000
DTEND;TZID=America/New_York:20251104T100000
DTSTAMP:20260425T160446
CREATED:20250124T161249Z
LAST-MODIFIED:20250124T161323Z
UID:10001184-1762246800-1762250400@berlinfirstbaptist.com
SUMMARY:Ladies' Prayer
DESCRIPTION:Ladies\, meet us at church every Tuesday for this special prayer hour
URL:https://berlinfirstbaptist.com/event/ladies-prayer/2025-11-04/
END:VEVENT
BEGIN:VEVENT
DTSTART;TZID=America/New_York:20251105T173000
DTEND;TZID=America/New_York:20251105T190000
DTSTAMP:20260425T160446
CREATED:20250106T203708Z
LAST-MODIFIED:20250816T190501Z
UID:10001029-1762363800-1762369200@berlinfirstbaptist.com
SUMMARY:Reset Student Ministry
DESCRIPTION:6th-12th grade students\, come join us for food\, games\, and fun while we grow together in our relationship with Jesus.
URL:https://berlinfirstbaptist.com/event/reset-student-ministry/2025-11-05/
END:VEVENT
BEGIN:VEVENT
DTSTART;TZID=America/New_York:20251105T173000
DTEND;TZID=America/New_York:20251105T190000
DTSTAMP:20260425T160446
CREATED:20251007T201755Z
LAST-MODIFIED:20251207T015611Z
UID:10001955-1762363800-1762369200@berlinfirstbaptist.com
SUMMARY:AWANA
DESCRIPTION:Pre-K to 5th grade\, join us on Wednesday evenings as we have FUN learning about Jesus!
URL:https://berlinfirstbaptist.com/event/awana-3/2025-11-05/
END:VEVENT
BEGIN:VEVENT
DTSTART;TZID=America/New_York:20251105T180000
DTEND;TZID=America/New_York:20251105T193000
DTSTAMP:20260425T160446
CREATED:20251006T152948Z
LAST-MODIFIED:20251006T152948Z
UID:10001696-1762365600-1762371000@berlinfirstbaptist.com
SUMMARY:Faithful Friends FFIND Youth Group
DESCRIPTION:Our weekly group meeting for those with needs & disabilities- please see Melanie or Shannon for details.
URL:https://berlinfirstbaptist.com/event/faithful-friends-ffind-youth-group/2025-11-05/
END:VEVENT
BEGIN:VEVENT
DTSTART;VALUE=DATE:20251107
DTEND;VALUE=DATE:20251108
DTSTAMP:20260425T160446
CREATED:20251006T153214Z
LAST-MODIFIED:20251006T153214Z
UID:10001950-1762473600-1762559999@berlinfirstbaptist.com
SUMMARY:Operation Christmas Child- Shoeboxes Due
DESCRIPTION:Visit our ministry table to find out how to fill a shoebox for a child- brighten the life of a child! See Dave for more info. Shoeboxes due back Nov 7th.
URL:https://berlinfirstbaptist.com/event/operation-christmas-child-shoeboxes-due/
END:VEVENT
BEGIN:VEVENT
DTSTART;TZID=America/New_York:20251107T190000
DTEND;TZID=America/New_York:20251107T210000
DTSTAMP:20260425T160446
CREATED:20251013T171014Z
LAST-MODIFIED:20251031T014513Z
UID:10002210-1762542000-1762549200@berlinfirstbaptist.com
SUMMARY:Fall Fest for Youth Group
DESCRIPTION:This will be a fall fest for the youth group and will have other student ministry’s in Attendance!
URL:https://berlinfirstbaptist.com/event/fall-fest-for-youth-group/
LOCATION:Berlin First Baptist Church\, 613 William St\, Berlin\, MD\, 21811\, United States
END:VEVENT
BEGIN:VEVENT
DTSTART;TZID=America/New_York:20251108T180000
DTEND;TZID=America/New_York:20251108T200000
DTSTAMP:20260425T160446
CREATED:20250124T162055Z
LAST-MODIFIED:20250124T162055Z
UID:10001409-1762624800-1762632000@berlinfirstbaptist.com
SUMMARY:Ladies' Fall Event
DESCRIPTION:Put this date on your calendar for fall fellowship together
URL:https://berlinfirstbaptist.com/event/ladies-fall-event/
END:VEVENT
BEGIN:VEVENT
DTSTART;TZID=America/New_York:20251109T090000
DTEND;TZID=America/New_York:20251109T100000
DTSTAMP:20260425T160446
CREATED:20240131T165812Z
LAST-MODIFIED:20240131T165812Z
UID:10000116-1762678800-1762682400@berlinfirstbaptist.com
SUMMARY:Sunday School
DESCRIPTION:We divide up into men\, women\, children\, and teens and teach through scripture verse by verse.
URL:https://berlinfirstbaptist.com/event/sunday-school/2025-11-09/
END:VEVENT
BEGIN:VEVENT
DTSTART;TZID=America/New_York:20251109T101500
DTEND;TZID=America/New_York:20251109T113000
DTSTAMP:20260425T160446
CREATED:20240131T170514Z
LAST-MODIFIED:20250824T122301Z
UID:10000381-1762683300-1762687800@berlinfirstbaptist.com
SUMMARY:Worship Service
DESCRIPTION:Join us as we worship together and study verse by verse through the Bible each Sunday morning. Nursery and Truth Seekers available for children 3rd grade and under. Disability accommodations are provided as well.
URL:https://berlinfirstbaptist.com/event/worship-service/2025-11-09/
END:VEVENT
BEGIN:VEVENT
DTSTART;TZID=America/New_York:20251109T120000
DTEND;TZID=America/New_York:20251109T130000
DTSTAMP:20260425T160446
CREATED:20250306T022216Z
LAST-MODIFIED:20251018T151855Z
UID:10001584-1762689600-1762693200@berlinfirstbaptist.com
SUMMARY:Business Meeting
DESCRIPTION:
URL:https://berlinfirstbaptist.com/event/business-meeting-7/
END:VEVENT
BEGIN:VEVENT
DTSTART;TZID=America/New_York:20251111T090000
DTEND;TZID=America/New_York:20251111T100000
DTSTAMP:20260425T160446
CREATED:20250124T161249Z
LAST-MODIFIED:20250124T161323Z
UID:10001185-1762851600-1762855200@berlinfirstbaptist.com
SUMMARY:Ladies' Prayer
DESCRIPTION:Ladies\, meet us at church every Tuesday for this special prayer hour
URL:https://berlinfirstbaptist.com/event/ladies-prayer/2025-11-11/
END:VEVENT
BEGIN:VEVENT
DTSTART;TZID=America/New_York:20251112T173000
DTEND;TZID=America/New_York:20251112T190000
DTSTAMP:20260425T160446
CREATED:20250106T203708Z
LAST-MODIFIED:20250816T190501Z
UID:10001030-1762968600-1762974000@berlinfirstbaptist.com
SUMMARY:Reset Student Ministry
DESCRIPTION:6th-12th grade students\, come join us for food\, games\, and fun while we grow together in our relationship with Jesus.
URL:https://berlinfirstbaptist.com/event/reset-student-ministry/2025-11-12/
END:VEVENT
BEGIN:VEVENT
DTSTART;TZID=America/New_York:20251112T173000
DTEND;TZID=America/New_York:20251112T190000
DTSTAMP:20260425T160446
CREATED:20251007T201755Z
LAST-MODIFIED:20251207T015611Z
UID:10001956-1762968600-1762974000@berlinfirstbaptist.com
SUMMARY:AWANA
DESCRIPTION:Pre-K to 5th grade\, join us on Wednesday evenings as we have FUN learning about Jesus!
URL:https://berlinfirstbaptist.com/event/awana-3/2025-11-12/
END:VEVENT
BEGIN:VEVENT
DTSTART;TZID=America/New_York:20251112T180000
DTEND;TZID=America/New_York:20251112T193000
DTSTAMP:20260425T160446
CREATED:20251006T152948Z
LAST-MODIFIED:20251006T152948Z
UID:10001697-1762970400-1762975800@berlinfirstbaptist.com
SUMMARY:Faithful Friends FFIND Youth Group
DESCRIPTION:Our weekly group meeting for those with needs & disabilities- please see Melanie or Shannon for details.
URL:https://berlinfirstbaptist.com/event/faithful-friends-ffind-youth-group/2025-11-12/
END:VEVENT
BEGIN:VEVENT
DTSTART;TZID=America/New_York:20251114T180000
DTEND;TZID=America/New_York:20251114T190000
DTSTAMP:20260425T160446
CREATED:20240131T183120Z
LAST-MODIFIED:20250107T181002Z
UID:10000583-1763143200-1763146800@berlinfirstbaptist.com
SUMMARY:Hymn Sing Outreach
DESCRIPTION:See Pastor Grant for more details.
URL:https://berlinfirstbaptist.com/event/hymn-singing/2025-11-14/
LOCATION:Gull Creek\, 1 Meadow St\, Berlin\, MD\, 21811\, United States
END:VEVENT
BEGIN:VEVENT
DTSTART;TZID=America/New_York:20251115T080000
DTEND;TZID=America/New_York:20251115T100000
DTSTAMP:20260425T160446
CREATED:20250205T002635Z
LAST-MODIFIED:20250205T002635Z
UID:10001507-1763193600-1763200800@berlinfirstbaptist.com
SUMMARY:Men's Breakfast
DESCRIPTION:Time & Place TBD
URL:https://berlinfirstbaptist.com/event/mens-breakfast-12/
END:VEVENT
BEGIN:VEVENT
DTSTART;TZID=America/New_York:20251115T080000
DTEND;TZID=America/New_York:20251115T130000
DTSTAMP:20260425T160446
CREATED:20251013T171144Z
LAST-MODIFIED:20251013T190959Z
UID:10002211-1763193600-1763211600@berlinfirstbaptist.com
SUMMARY:Yard Cleanup Fundraiser
DESCRIPTION:Students will help clean up Yards as a fundraiser for the Student ministry!
URL:https://berlinfirstbaptist.com/event/yard-cleanup-fundraiser/
END:VEVENT
BEGIN:VEVENT
DTSTART;VALUE=DATE:20251116
DTEND;VALUE=DATE:20251117
DTSTAMP:20260425T160446
CREATED:20250327T170310Z
LAST-MODIFIED:20250327T170310Z
UID:10001592-1763251200-1763337599@berlinfirstbaptist.com
SUMMARY:CLT Meeting
DESCRIPTION:See Pastor Glenn for details.
URL:https://berlinfirstbaptist.com/event/clt-meeting-7/
END:VEVENT
BEGIN:VEVENT
DTSTART;TZID=America/New_York:20251116T090000
DTEND;TZID=America/New_York:20251116T100000
DTSTAMP:20260425T160446
CREATED:20240131T165812Z
LAST-MODIFIED:20240131T165812Z
UID:10000117-1763283600-1763287200@berlinfirstbaptist.com
SUMMARY:Sunday School
DESCRIPTION:We divide up into men\, women\, children\, and teens and teach through scripture verse by verse.
URL:https://berlinfirstbaptist.com/event/sunday-school/2025-11-16/
END:VEVENT
BEGIN:VEVENT
DTSTART;TZID=America/New_York:20251116T101500
DTEND;TZID=America/New_York:20251116T113000
DTSTAMP:20260425T160446
CREATED:20240131T170514Z
LAST-MODIFIED:20250824T122301Z
UID:10000382-1763288100-1763292600@berlinfirstbaptist.com
SUMMARY:Worship Service
DESCRIPTION:Join us as we worship together and study verse by verse through the Bible each Sunday morning. Nursery and Truth Seekers available for children 3rd grade and under. Disability accommodations are provided as well.
URL:https://berlinfirstbaptist.com/event/worship-service/2025-11-16/
END:VEVENT
BEGIN:VEVENT
DTSTART;TZID=America/New_York:20251118T090000
DTEND;TZID=America/New_York:20251118T100000
DTSTAMP:20260425T160446
CREATED:20250124T161249Z
LAST-MODIFIED:20250124T161323Z
UID:10001186-1763456400-1763460000@berlinfirstbaptist.com
SUMMARY:Ladies' Prayer
DESCRIPTION:Ladies\, meet us at church every Tuesday for this special prayer hour
URL:https://berlinfirstbaptist.com/event/ladies-prayer/2025-11-18/
END:VEVENT
BEGIN:VEVENT
DTSTART;TZID=America/New_York:20251119T173000
DTEND;TZID=America/New_York:20251119T190000
DTSTAMP:20260425T160446
CREATED:20250106T203708Z
LAST-MODIFIED:20250816T190501Z
UID:10001031-1763573400-1763578800@berlinfirstbaptist.com
SUMMARY:Reset Student Ministry
DESCRIPTION:6th-12th grade students\, come join us for food\, games\, and fun while we grow together in our relationship with Jesus.
URL:https://berlinfirstbaptist.com/event/reset-student-ministry/2025-11-19/
END:VEVENT
BEGIN:VEVENT
DTSTART;TZID=America/New_York:20251119T173000
DTEND;TZID=America/New_York:20251119T190000
DTSTAMP:20260425T160446
CREATED:20251007T201755Z
LAST-MODIFIED:20251207T015611Z
UID:10001957-1763573400-1763578800@berlinfirstbaptist.com
SUMMARY:AWANA
DESCRIPTION:Pre-K to 5th grade\, join us on Wednesday evenings as we have FUN learning about Jesus!
URL:https://berlinfirstbaptist.com/event/awana-3/2025-11-19/
END:VEVENT
BEGIN:VEVENT
DTSTART;TZID=America/New_York:20251119T180000
DTEND;TZID=America/New_York:20251119T193000
DTSTAMP:20260425T160446
CREATED:20251006T152948Z
LAST-MODIFIED:20251006T152948Z
UID:10001698-1763575200-1763580600@berlinfirstbaptist.com
SUMMARY:Faithful Friends FFIND Youth Group
DESCRIPTION:Our weekly group meeting for those with needs & disabilities- please see Melanie or Shannon for details.
URL:https://berlinfirstbaptist.com/event/faithful-friends-ffind-youth-group/2025-11-19/
END:VEVENT
BEGIN:VEVENT
DTSTART;TZID=America/New_York:20251123T090000
DTEND;TZID=America/New_York:20251123T100000
DTSTAMP:20260425T160446
CREATED:20240131T165812Z
LAST-MODIFIED:20240131T165812Z
UID:10000118-1763888400-1763892000@berlinfirstbaptist.com
SUMMARY:Sunday School
DESCRIPTION:We divide up into men\, women\, children\, and teens and teach through scripture verse by verse.
URL:https://berlinfirstbaptist.com/event/sunday-school/2025-11-23/
END:VEVENT
BEGIN:VEVENT
DTSTART;TZID=America/New_York:20251123T101500
DTEND;TZID=America/New_York:20251123T113000
DTSTAMP:20260425T160447
CREATED:20240131T170514Z
LAST-MODIFIED:20250824T122301Z
UID:10000383-1763892900-1763897400@berlinfirstbaptist.com
SUMMARY:Worship Service
DESCRIPTION:Join us as we worship together and study verse by verse through the Bible each Sunday morning. Nursery and Truth Seekers available for children 3rd grade and under. Disability accommodations are provided as well.
URL:https://berlinfirstbaptist.com/event/worship-service/2025-11-23/
END:VEVENT
BEGIN:VEVENT
DTSTART;TZID=America/New_York:20251125T090000
DTEND;TZID=America/New_York:20251125T100000
DTSTAMP:20260425T160447
CREATED:20250124T161249Z
LAST-MODIFIED:20250124T161323Z
UID:10001187-1764061200-1764064800@berlinfirstbaptist.com
SUMMARY:Ladies' Prayer
DESCRIPTION:Ladies\, meet us at church every Tuesday for this special prayer hour
URL:https://berlinfirstbaptist.com/event/ladies-prayer/2025-11-25/
END:VEVENT
BEGIN:VEVENT
DTSTART;TZID=America/New_York:20251126T130000
DTEND;TZID=America/New_York:20251126T150000
DTSTAMP:20260425T160447
CREATED:20251013T171243Z
LAST-MODIFIED:20251018T152001Z
UID:10002212-1764162000-1764169200@berlinfirstbaptist.com
SUMMARY:Youth Flag Football
DESCRIPTION:Flag football event with the Youth group!
URL:https://berlinfirstbaptist.com/event/youth-flag-football/
LOCATION:Berlin First Baptist Church\, 613 William St\, Berlin\, MD\, 21811\, United States
END:VEVENT
BEGIN:VEVENT
DTSTART;TZID=America/New_York:20251126T173000
DTEND;TZID=America/New_York:20251126T190000
DTSTAMP:20260425T160447
CREATED:20250106T203708Z
LAST-MODIFIED:20250816T190501Z
UID:10001032-1764178200-1764183600@berlinfirstbaptist.com
SUMMARY:Reset Student Ministry
DESCRIPTION:6th-12th grade students\, come join us for food\, games\, and fun while we grow together in our relationship with Jesus.
URL:https://berlinfirstbaptist.com/event/reset-student-ministry/2025-11-26/
END:VEVENT
BEGIN:VEVENT
DTSTART;VALUE=DATE:20251127
DTEND;VALUE=DATE:20251128
DTSTAMP:20260425T160447
CREATED:20250205T010801Z
LAST-MODIFIED:20250205T010801Z
UID:10001508-1764201600-1764287999@berlinfirstbaptist.com
SUMMARY:Thanksgiving Outreach Dinner
DESCRIPTION:Call the church to reserve your dinner- we serve our local community for free
URL:https://berlinfirstbaptist.com/event/thanksgiving-outreach-dinner/
END:VEVENT
BEGIN:VEVENT
DTSTART;TZID=America/New_York:20251130T090000
DTEND;TZID=America/New_York:20251130T100000
DTSTAMP:20260425T160447
CREATED:20240131T165812Z
LAST-MODIFIED:20240131T165812Z
UID:10000119-1764493200-1764496800@berlinfirstbaptist.com
SUMMARY:Sunday School
DESCRIPTION:We divide up into men\, women\, children\, and teens and teach through scripture verse by verse.
URL:https://berlinfirstbaptist.com/event/sunday-school/2025-11-30/
END:VEVENT
BEGIN:VEVENT
DTSTART;TZID=America/New_York:20251130T101500
DTEND;TZID=America/New_York:20251130T113000
DTSTAMP:20260425T160447
CREATED:20240131T170514Z
LAST-MODIFIED:20250824T122301Z
UID:10000384-1764497700-1764502200@berlinfirstbaptist.com
SUMMARY:Worship Service
DESCRIPTION:Join us as we worship together and study verse by verse through the Bible each Sunday morning. Nursery and Truth Seekers available for children 3rd grade and under. Disability accommodations are provided as well.
URL:https://berlinfirstbaptist.com/event/worship-service/2025-11-30/
END:VEVENT
END:VCALENDAR