BEGIN:VCALENDAR
VERSION:2.0
PRODID:-//Berlin First Baptist Church - ECPv6.13.0//NONSGML v1.0//EN
CALSCALE:GREGORIAN
METHOD:PUBLISH
X-WR-CALNAME:Berlin First Baptist Church
X-ORIGINAL-URL:https://berlinfirstbaptist.com
X-WR-CALDESC:Events for Berlin First Baptist Church
REFRESH-INTERVAL;VALUE=DURATION:PT1H
X-Robots-Tag:noindex
X-PUBLISHED-TTL:PT1H
BEGIN:VTIMEZONE
TZID:America/New_York
BEGIN:DAYLIGHT
TZOFFSETFROM:-0500
TZOFFSETTO:-0400
TZNAME:EDT
DTSTART:20250309T070000
END:DAYLIGHT
BEGIN:STANDARD
TZOFFSETFROM:-0400
TZOFFSETTO:-0500
TZNAME:EST
DTSTART:20251102T060000
END:STANDARD
END:VTIMEZONE
BEGIN:VEVENT
DTSTART;TZID=America/New_York:20250105T090000
DTEND;TZID=America/New_York:20250105T100000
DTSTAMP:20260419T223419
CREATED:20240131T165812Z
LAST-MODIFIED:20240131T165812Z
UID:10000072-1736067600-1736071200@berlinfirstbaptist.com
SUMMARY:Sunday School
DESCRIPTION:We divide up into men\, women\, children\, and teens and teach through scripture verse by verse.
URL:https://berlinfirstbaptist.com/event/sunday-school/2025-01-05/
END:VEVENT
BEGIN:VEVENT
DTSTART;TZID=America/New_York:20250105T101500
DTEND;TZID=America/New_York:20250105T113000
DTSTAMP:20260419T223419
CREATED:20240131T170514Z
LAST-MODIFIED:20250824T122301Z
UID:10000337-1736072100-1736076600@berlinfirstbaptist.com
SUMMARY:Worship Service
DESCRIPTION:Join us as we worship together and study verse by verse through the Bible each Sunday morning. Nursery and Truth Seekers available for children 3rd grade and under. Disability accommodations are provided as well.
URL:https://berlinfirstbaptist.com/event/worship-service/2025-01-05/
END:VEVENT
BEGIN:VEVENT
DTSTART;TZID=America/New_York:20250105T163000
DTEND;TZID=America/New_York:20250105T173000
DTSTAMP:20260419T223419
CREATED:20240502T125532Z
LAST-MODIFIED:20240502T125533Z
UID:10000758-1736094600-1736098200@berlinfirstbaptist.com
SUMMARY:Prayer Meeting
DESCRIPTION:Join us as we pray and praise.
URL:https://berlinfirstbaptist.com/event/prayer-meeting-2/2025-01-05/
END:VEVENT
BEGIN:VEVENT
DTSTART;TZID=America/New_York:20250108T173000
DTEND;TZID=America/New_York:20250108T190000
DTSTAMP:20260419T223419
CREATED:20250107T211335Z
LAST-MODIFIED:20250107T211335Z
UID:10001141-1736357400-1736362800@berlinfirstbaptist.com
SUMMARY:Awana CANCELED
DESCRIPTION:There will be no AWANA tonight as Worcester County Schools are closed for weather
URL:https://berlinfirstbaptist.com/event/awana-canceled/
END:VEVENT
BEGIN:VEVENT
DTSTART;TZID=America/New_York:20250108T173000
DTEND;TZID=America/New_York:20250108T190000
DTSTAMP:20260419T223419
CREATED:20250107T215016Z
LAST-MODIFIED:20250107T215016Z
UID:10001142-1736357400-1736362800@berlinfirstbaptist.com
SUMMARY:Reset CANCELED
DESCRIPTION:Reset will be canceled tonight due to weather as we follow the Worcester County School system.
URL:https://berlinfirstbaptist.com/event/reset-canceled/
END:VEVENT
BEGIN:VEVENT
DTSTART;VALUE=DATE:20250110
DTEND;VALUE=DATE:20250113
DTSTAMP:20260419T223419
CREATED:20241115T034016Z
LAST-MODIFIED:20241115T034016Z
UID:10000980-1736467200-1736726399@berlinfirstbaptist.com
SUMMARY:Student Winter Retreat
DESCRIPTION:See Pastor Brad for more details
URL:https://berlinfirstbaptist.com/event/student-winter-retreat/
END:VEVENT
BEGIN:VEVENT
DTSTART;TZID=America/New_York:20250112T090000
DTEND;TZID=America/New_York:20250112T100000
DTSTAMP:20260419T223419
CREATED:20240131T165812Z
LAST-MODIFIED:20240131T165812Z
UID:10000073-1736672400-1736676000@berlinfirstbaptist.com
SUMMARY:Sunday School
DESCRIPTION:We divide up into men\, women\, children\, and teens and teach through scripture verse by verse.
URL:https://berlinfirstbaptist.com/event/sunday-school/2025-01-12/
END:VEVENT
BEGIN:VEVENT
DTSTART;TZID=America/New_York:20250112T101500
DTEND;TZID=America/New_York:20250112T113000
DTSTAMP:20260419T223419
CREATED:20240131T170514Z
LAST-MODIFIED:20250824T122301Z
UID:10000338-1736676900-1736681400@berlinfirstbaptist.com
SUMMARY:Worship Service
DESCRIPTION:Join us as we worship together and study verse by verse through the Bible each Sunday morning. Nursery and Truth Seekers available for children 3rd grade and under. Disability accommodations are provided as well.
URL:https://berlinfirstbaptist.com/event/worship-service/2025-01-12/
END:VEVENT
BEGIN:VEVENT
DTSTART;TZID=America/New_York:20250112T113000
DTEND;TZID=America/New_York:20250112T120000
DTSTAMP:20260419T223419
CREATED:20250106T205430Z
LAST-MODIFIED:20250106T205430Z
UID:10001135-1736681400-1736683200@berlinfirstbaptist.com
SUMMARY:Men's Ministry meeting
DESCRIPTION:Calling all men\, please stay after service for a brief meeting.  Thank you!
URL:https://berlinfirstbaptist.com/event/mens-ministry-meeting/
END:VEVENT
BEGIN:VEVENT
DTSTART;TZID=America/New_York:20250114T090000
DTEND;TZID=America/New_York:20250114T100000
DTSTAMP:20260419T223419
CREATED:20250106T205555Z
LAST-MODIFIED:20250107T214556Z
UID:10001136-1736845200-1736848800@berlinfirstbaptist.com
SUMMARY:Women's Prayer Breakfast
DESCRIPTION:All women are invited to join us for this special event.
URL:https://berlinfirstbaptist.com/event/womens-prayer-breakfast/
END:VEVENT
BEGIN:VEVENT
DTSTART;TZID=America/New_York:20250115T173000
DTEND;TZID=America/New_York:20250115T190000
DTSTAMP:20260419T223419
CREATED:20250106T203708Z
LAST-MODIFIED:20250816T190501Z
UID:10000987-1736962200-1736967600@berlinfirstbaptist.com
SUMMARY:Reset Student Ministry
DESCRIPTION:6th-12th grade students\, come join us for food\, games\, and fun while we grow together in our relationship with Jesus.
URL:https://berlinfirstbaptist.com/event/reset-student-ministry/2025-01-15/
END:VEVENT
BEGIN:VEVENT
DTSTART;TZID=America/New_York:20250115T173000
DTEND;TZID=America/New_York:20250115T190000
DTSTAMP:20260419T223419
CREATED:20250106T203903Z
LAST-MODIFIED:20250122T155001Z
UID:10001037-1736962200-1736967600@berlinfirstbaptist.com
SUMMARY:AWANA
DESCRIPTION:AWANA is for children from Pre-K to 5th Grade. Children will learn about Jesus as their Savior\, make crafts\, play games\, and have fun!  See Shannon Diehl for more info.
URL:https://berlinfirstbaptist.com/event/awana/2025-01-15/
END:VEVENT
BEGIN:VEVENT
DTSTART;TZID=America/New_York:20250118T083000
DTEND;TZID=America/New_York:20250118T100000
DTSTAMP:20260419T223419
CREATED:20250106T205705Z
LAST-MODIFIED:20250106T205705Z
UID:10001137-1737189000-1737194400@berlinfirstbaptist.com
SUMMARY:Men's Ministry Breakfast
DESCRIPTION:Please join us for a special men’s breakfast at the church.
URL:https://berlinfirstbaptist.com/event/mens-ministry-breakfast/
END:VEVENT
BEGIN:VEVENT
DTSTART;TZID=America/New_York:20250119T090000
DTEND;TZID=America/New_York:20250119T100000
DTSTAMP:20260419T223419
CREATED:20240131T165812Z
LAST-MODIFIED:20240131T165812Z
UID:10000074-1737277200-1737280800@berlinfirstbaptist.com
SUMMARY:Sunday School
DESCRIPTION:We divide up into men\, women\, children\, and teens and teach through scripture verse by verse.
URL:https://berlinfirstbaptist.com/event/sunday-school/2025-01-19/
END:VEVENT
BEGIN:VEVENT
DTSTART;TZID=America/New_York:20250119T101500
DTEND;TZID=America/New_York:20250119T113000
DTSTAMP:20260419T223419
CREATED:20240131T170514Z
LAST-MODIFIED:20250824T122301Z
UID:10000339-1737281700-1737286200@berlinfirstbaptist.com
SUMMARY:Worship Service
DESCRIPTION:Join us as we worship together and study verse by verse through the Bible each Sunday morning. Nursery and Truth Seekers available for children 3rd grade and under. Disability accommodations are provided as well.
URL:https://berlinfirstbaptist.com/event/worship-service/2025-01-19/
END:VEVENT
BEGIN:VEVENT
DTSTART;VALUE=DATE:20250122
DTEND;VALUE=DATE:20250123
DTSTAMP:20260419T223419
CREATED:20250122T154829Z
LAST-MODIFIED:20250122T155102Z
UID:10001143-1737504000-1737590399@berlinfirstbaptist.com
SUMMARY:CANCELED: Awana & Reset are canceled this evening
DESCRIPTION:AWANA & RESET are CANCELED this evening\, as we follow the Worcester County Public School closing.  Stay safe and warm everyone!
URL:https://berlinfirstbaptist.com/event/awana-reset-canceled-this-evening/
END:VEVENT
BEGIN:VEVENT
DTSTART;TZID=America/New_York:20250122T173000
DTEND;TZID=America/New_York:20250122T190000
DTSTAMP:20260419T223419
CREATED:20250106T203708Z
LAST-MODIFIED:20250816T190501Z
UID:10001603-1737567000-1737572400@berlinfirstbaptist.com
SUMMARY:Reset Student Ministry
DESCRIPTION:6th-12th grade students\, come join us for food\, games\, and fun while we grow together in our relationship with Jesus.
URL:https://berlinfirstbaptist.com/event/reset-student-ministry/2025-01-22/
END:VEVENT
BEGIN:VEVENT
DTSTART;TZID=America/New_York:20250126T090000
DTEND;TZID=America/New_York:20250126T100000
DTSTAMP:20260419T223419
CREATED:20240131T165812Z
LAST-MODIFIED:20240131T165812Z
UID:10000075-1737882000-1737885600@berlinfirstbaptist.com
SUMMARY:Sunday School
DESCRIPTION:We divide up into men\, women\, children\, and teens and teach through scripture verse by verse.
URL:https://berlinfirstbaptist.com/event/sunday-school/2025-01-26/
END:VEVENT
BEGIN:VEVENT
DTSTART;TZID=America/New_York:20250126T101500
DTEND;TZID=America/New_York:20250126T113000
DTSTAMP:20260419T223419
CREATED:20240131T170514Z
LAST-MODIFIED:20250824T122301Z
UID:10000340-1737886500-1737891000@berlinfirstbaptist.com
SUMMARY:Worship Service
DESCRIPTION:Join us as we worship together and study verse by verse through the Bible each Sunday morning. Nursery and Truth Seekers available for children 3rd grade and under. Disability accommodations are provided as well.
URL:https://berlinfirstbaptist.com/event/worship-service/2025-01-26/
END:VEVENT
BEGIN:VEVENT
DTSTART;TZID=America/New_York:20250128T090000
DTEND;TZID=America/New_York:20250128T100000
DTSTAMP:20260419T223419
CREATED:20250124T161249Z
LAST-MODIFIED:20250124T161323Z
UID:10001144-1738054800-1738058400@berlinfirstbaptist.com
SUMMARY:Ladies' Prayer
DESCRIPTION:Ladies\, meet us at church every Tuesday for this special prayer hour
URL:https://berlinfirstbaptist.com/event/ladies-prayer/2025-01-28/
END:VEVENT
BEGIN:VEVENT
DTSTART;TZID=America/New_York:20250129T173000
DTEND;TZID=America/New_York:20250129T190000
DTSTAMP:20260419T223419
CREATED:20250106T203708Z
LAST-MODIFIED:20250816T190501Z
UID:10000989-1738171800-1738177200@berlinfirstbaptist.com
SUMMARY:Reset Student Ministry
DESCRIPTION:6th-12th grade students\, come join us for food\, games\, and fun while we grow together in our relationship with Jesus.
URL:https://berlinfirstbaptist.com/event/reset-student-ministry/2025-01-29/
END:VEVENT
BEGIN:VEVENT
DTSTART;TZID=America/New_York:20250129T173000
DTEND;TZID=America/New_York:20250129T190000
DTSTAMP:20260419T223419
CREATED:20250106T203903Z
LAST-MODIFIED:20250122T155001Z
UID:10001039-1738171800-1738177200@berlinfirstbaptist.com
SUMMARY:AWANA
DESCRIPTION:AWANA is for children from Pre-K to 5th Grade. Children will learn about Jesus as their Savior\, make crafts\, play games\, and have fun!  See Shannon Diehl for more info.
URL:https://berlinfirstbaptist.com/event/awana/2025-01-29/
END:VEVENT
END:VCALENDAR