BEGIN:VCALENDAR
VERSION:2.0
PRODID:-//Berlin First Baptist Church - ECPv6.13.0//NONSGML v1.0//EN
CALSCALE:GREGORIAN
METHOD:PUBLISH
X-ORIGINAL-URL:https://berlinfirstbaptist.com
X-WR-CALDESC:Events for Berlin First Baptist Church
REFRESH-INTERVAL;VALUE=DURATION:PT1H
X-Robots-Tag:noindex
X-PUBLISHED-TTL:PT1H
BEGIN:VTIMEZONE
TZID:America/New_York
BEGIN:DAYLIGHT
TZOFFSETFROM:-0500
TZOFFSETTO:-0400
TZNAME:EDT
DTSTART:20240310T070000
END:DAYLIGHT
BEGIN:STANDARD
TZOFFSETFROM:-0400
TZOFFSETTO:-0500
TZNAME:EST
DTSTART:20241103T060000
END:STANDARD
BEGIN:DAYLIGHT
TZOFFSETFROM:-0500
TZOFFSETTO:-0400
TZNAME:EDT
DTSTART:20250309T070000
END:DAYLIGHT
BEGIN:STANDARD
TZOFFSETFROM:-0400
TZOFFSETTO:-0500
TZNAME:EST
DTSTART:20251102T060000
END:STANDARD
END:VTIMEZONE
BEGIN:VEVENT
DTSTART;TZID=America/New_York:20241201T090000
DTEND;TZID=America/New_York:20241201T100000
DTSTAMP:20260419T140807
CREATED:20240131T165812Z
LAST-MODIFIED:20240131T165812Z
UID:10000067-1733043600-1733047200@berlinfirstbaptist.com
SUMMARY:Sunday School
DESCRIPTION:We divide up into men\, women\, children\, and teens and teach through scripture verse by verse.
URL:https://berlinfirstbaptist.com/event/sunday-school/2024-12-01/
END:VEVENT
BEGIN:VEVENT
DTSTART;TZID=America/New_York:20241201T101500
DTEND;TZID=America/New_York:20241201T113000
DTSTAMP:20260419T140807
CREATED:20240131T170514Z
LAST-MODIFIED:20250824T122301Z
UID:10000332-1733048100-1733052600@berlinfirstbaptist.com
SUMMARY:Worship Service
DESCRIPTION:Join us as we worship together and study verse by verse through the Bible each Sunday morning. Nursery and Truth Seekers available for children 3rd grade and under. Disability accommodations are provided as well.
URL:https://berlinfirstbaptist.com/event/worship-service/2024-12-01/
END:VEVENT
BEGIN:VEVENT
DTSTART;TZID=America/New_York:20241201T163000
DTEND;TZID=America/New_York:20241201T173000
DTSTAMP:20260419T140807
CREATED:20240502T125532Z
LAST-MODIFIED:20240502T125533Z
UID:10000757-1733070600-1733074200@berlinfirstbaptist.com
SUMMARY:Prayer Meeting
DESCRIPTION:Join us as we pray and praise.
URL:https://berlinfirstbaptist.com/event/prayer-meeting-2/2024-12-01/
END:VEVENT
BEGIN:VEVENT
DTSTART;TZID=America/New_York:20241204T173000
DTEND;TZID=America/New_York:20241204T190000
DTSTAMP:20260419T140807
CREATED:20240131T185540Z
LAST-MODIFIED:20241115T032843Z
UID:10000826-1733333400-1733338800@berlinfirstbaptist.com
SUMMARY:Reset (student ministry)
DESCRIPTION:6th-12th grades- join us for food\, games\, and fun while we grow together in our relationship with Jesus
URL:https://berlinfirstbaptist.com/event/reset-only/2024-12-04/
LOCATION:Berlin First Baptist Church\, 613 William St\, Berlin\, MD\, 21811\, United States
END:VEVENT
BEGIN:VEVENT
DTSTART;TZID=America/New_York:20241204T173000
DTEND;TZID=America/New_York:20241204T190000
DTSTAMP:20260419T140807
CREATED:20240131T193632Z
LAST-MODIFIED:20241115T033051Z
UID:10000735-1733333400-1733338800@berlinfirstbaptist.com
SUMMARY:AWANA
DESCRIPTION:AWANA is for children from Pre-K to 5th Grade. Children will learn about Jesus as their Savior\, do crafts\, play games\, and have fun!
URL:https://berlinfirstbaptist.com/event/reset-and-awana/2024-12-04/
LOCATION:Berlin First Baptist Church\, 613 William St\, Berlin\, MD\, 21811\, United States
END:VEVENT
BEGIN:VEVENT
DTSTART;TZID=America/New_York:20241205T180000
DTEND;TZID=America/New_York:20241205T200000
DTSTAMP:20260419T140807
CREATED:20241115T033622Z
LAST-MODIFIED:20241115T033622Z
UID:10000977-1733421600-1733428800@berlinfirstbaptist.com
SUMMARY:Christmas Parade Hot Chocolate Outreach
DESCRIPTION:Join us as we hand out free hot chocolate at the Berlin Christmas Parade!
URL:https://berlinfirstbaptist.com/event/christmas-parade-hot-chocolate-outreach/
END:VEVENT
BEGIN:VEVENT
DTSTART;VALUE=DATE:20241207
DTEND;VALUE=DATE:20241208
DTSTAMP:20260419T140807
CREATED:20241115T032052Z
LAST-MODIFIED:20241115T035101Z
UID:10000972-1733529600-1733615999@berlinfirstbaptist.com
SUMMARY:Student Christmas Caroling & Bonfire
DESCRIPTION:Grades 6-12 join us for Christmas Caroling as we spread the joy of Jesus’ birth!  See Pastor Brad for details.
URL:https://berlinfirstbaptist.com/event/youth-christmas-caroling/
END:VEVENT
BEGIN:VEVENT
DTSTART;VALUE=DATE:20241208
DTEND;VALUE=DATE:20241209
DTSTAMP:20260419T140807
CREATED:20241115T033732Z
LAST-MODIFIED:20241115T033732Z
UID:10000978-1733616000-1733702399@berlinfirstbaptist.com
SUMMARY:Christmas Party
DESCRIPTION:Our favorite party of the year!
URL:https://berlinfirstbaptist.com/event/christmas-party/
END:VEVENT
BEGIN:VEVENT
DTSTART;TZID=America/New_York:20241208T090000
DTEND;TZID=America/New_York:20241208T100000
DTSTAMP:20260419T140807
CREATED:20240131T165812Z
LAST-MODIFIED:20240131T165812Z
UID:10000068-1733648400-1733652000@berlinfirstbaptist.com
SUMMARY:Sunday School
DESCRIPTION:We divide up into men\, women\, children\, and teens and teach through scripture verse by verse.
URL:https://berlinfirstbaptist.com/event/sunday-school/2024-12-08/
END:VEVENT
BEGIN:VEVENT
DTSTART;TZID=America/New_York:20241208T101500
DTEND;TZID=America/New_York:20241208T113000
DTSTAMP:20260419T140807
CREATED:20240131T170514Z
LAST-MODIFIED:20250824T122301Z
UID:10000333-1733652900-1733657400@berlinfirstbaptist.com
SUMMARY:Worship Service
DESCRIPTION:Join us as we worship together and study verse by verse through the Bible each Sunday morning. Nursery and Truth Seekers available for children 3rd grade and under. Disability accommodations are provided as well.
URL:https://berlinfirstbaptist.com/event/worship-service/2024-12-08/
END:VEVENT
BEGIN:VEVENT
DTSTART;TZID=America/New_York:20241211T173000
DTEND;TZID=America/New_York:20241211T190000
DTSTAMP:20260419T140807
CREATED:20240131T185540Z
LAST-MODIFIED:20241115T032843Z
UID:10000827-1733938200-1733943600@berlinfirstbaptist.com
SUMMARY:Reset (student ministry)
DESCRIPTION:6th-12th grades- join us for food\, games\, and fun while we grow together in our relationship with Jesus
URL:https://berlinfirstbaptist.com/event/reset-only/2024-12-11/
LOCATION:Berlin First Baptist Church\, 613 William St\, Berlin\, MD\, 21811\, United States
END:VEVENT
BEGIN:VEVENT
DTSTART;TZID=America/New_York:20241211T173000
DTEND;TZID=America/New_York:20241211T190000
DTSTAMP:20260419T140807
CREATED:20240131T193632Z
LAST-MODIFIED:20241115T033051Z
UID:10000736-1733938200-1733943600@berlinfirstbaptist.com
SUMMARY:AWANA
DESCRIPTION:AWANA is for children from Pre-K to 5th Grade. Children will learn about Jesus as their Savior\, do crafts\, play games\, and have fun!
URL:https://berlinfirstbaptist.com/event/reset-and-awana/2024-12-11/
LOCATION:Berlin First Baptist Church\, 613 William St\, Berlin\, MD\, 21811\, United States
END:VEVENT
BEGIN:VEVENT
DTSTART;TZID=America/New_York:20241213T180000
DTEND;TZID=America/New_York:20241213T190000
DTSTAMP:20260419T140807
CREATED:20240131T183120Z
LAST-MODIFIED:20250107T181002Z
UID:10000572-1734112800-1734116400@berlinfirstbaptist.com
SUMMARY:Hymn Sing Outreach
DESCRIPTION:See Pastor Grant for more details.
URL:https://berlinfirstbaptist.com/event/hymn-singing/2024-12-13/
LOCATION:Gull Creek\, 1 Meadow St\, Berlin\, MD\, 21811\, United States
END:VEVENT
BEGIN:VEVENT
DTSTART;TZID=America/New_York:20241214T083000
DTEND;TZID=America/New_York:20241214T100000
DTSTAMP:20260419T140807
CREATED:20241115T033844Z
LAST-MODIFIED:20241115T033844Z
UID:10000979-1734165000-1734170400@berlinfirstbaptist.com
SUMMARY:Men's Breakfast
DESCRIPTION:Join us at Abi’s Dinner for men’s fellowship
URL:https://berlinfirstbaptist.com/event/mens-breakfast-4/
END:VEVENT
BEGIN:VEVENT
DTSTART;TZID=America/New_York:20241214T140000
DTEND;TZID=America/New_York:20241214T160000
DTSTAMP:20260419T140807
CREATED:20241008T234229Z
LAST-MODIFIED:20241115T033315Z
UID:10000946-1734184800-1734192000@berlinfirstbaptist.com
SUMMARY:Student Cookie & Video Game party
DESCRIPTION:Students grades 6-12\, let’s get together for a Christmas cookie/video game party.  Contact Shannon Diehl for details.
URL:https://berlinfirstbaptist.com/event/students-girls-cookie-party/
END:VEVENT
BEGIN:VEVENT
DTSTART;VALUE=DATE:20241215
DTEND;VALUE=DATE:20241216
DTSTAMP:20260419T140807
CREATED:20241115T032446Z
LAST-MODIFIED:20241115T035003Z
UID:10000973-1734220800-1734307199@berlinfirstbaptist.com
SUMMARY:Student Gift Wrapping Fundraiser
DESCRIPTION:Come to our Christmas Workshop and get your holiday gifts wrapped. Thank you for supporting our youth!  Call the church for details on this event.
URL:https://berlinfirstbaptist.com/event/youth-group-gift-wrapping-fundraiser/
END:VEVENT
BEGIN:VEVENT
DTSTART;TZID=America/New_York:20241215T090000
DTEND;TZID=America/New_York:20241215T100000
DTSTAMP:20260419T140807
CREATED:20240131T165812Z
LAST-MODIFIED:20240131T165812Z
UID:10000069-1734253200-1734256800@berlinfirstbaptist.com
SUMMARY:Sunday School
DESCRIPTION:We divide up into men\, women\, children\, and teens and teach through scripture verse by verse.
URL:https://berlinfirstbaptist.com/event/sunday-school/2024-12-15/
END:VEVENT
BEGIN:VEVENT
DTSTART;TZID=America/New_York:20241215T101500
DTEND;TZID=America/New_York:20241215T113000
DTSTAMP:20260419T140807
CREATED:20240131T170514Z
LAST-MODIFIED:20250824T122301Z
UID:10000334-1734257700-1734262200@berlinfirstbaptist.com
SUMMARY:Worship Service
DESCRIPTION:Join us as we worship together and study verse by verse through the Bible each Sunday morning. Nursery and Truth Seekers available for children 3rd grade and under. Disability accommodations are provided as well.
URL:https://berlinfirstbaptist.com/event/worship-service/2024-12-15/
END:VEVENT
BEGIN:VEVENT
DTSTART;TZID=America/New_York:20241218T173000
DTEND;TZID=America/New_York:20241218T190000
DTSTAMP:20260419T140807
CREATED:20240131T185540Z
LAST-MODIFIED:20241115T032843Z
UID:10000828-1734543000-1734548400@berlinfirstbaptist.com
SUMMARY:Reset (student ministry)
DESCRIPTION:6th-12th grades- join us for food\, games\, and fun while we grow together in our relationship with Jesus
URL:https://berlinfirstbaptist.com/event/reset-only/2024-12-18/
LOCATION:Berlin First Baptist Church\, 613 William St\, Berlin\, MD\, 21811\, United States
END:VEVENT
BEGIN:VEVENT
DTSTART;TZID=America/New_York:20241218T173000
DTEND;TZID=America/New_York:20241218T190000
DTSTAMP:20260419T140807
CREATED:20241217T152422Z
LAST-MODIFIED:20241217T152422Z
UID:10000983-1734543000-1734548400@berlinfirstbaptist.com
SUMMARY:Awana "Happy Birthday Jesus" party!
DESCRIPTION:Join us for a special Birthday Party to celebrate Jesus!  Preschool to 5th grade.
URL:https://berlinfirstbaptist.com/event/awana-happy-birthday-jesus-party/
END:VEVENT
BEGIN:VEVENT
DTSTART;TZID=America/New_York:20241220T180000
DTEND;TZID=America/New_York:20241220T203000
DTSTAMP:20260419T140807
CREATED:20241008T234347Z
LAST-MODIFIED:20241008T234347Z
UID:10000947-1734717600-1734726600@berlinfirstbaptist.com
SUMMARY:Student Ugly Christmas Sweater Party
DESCRIPTION:Youth grades 6-12 get together to show off your UGLY Christmas sweater.  Food and games and fun!
URL:https://berlinfirstbaptist.com/event/student-ugly-christmas-sweater-party-2/
END:VEVENT
BEGIN:VEVENT
DTSTART;TZID=America/New_York:20241222T090000
DTEND;TZID=America/New_York:20241222T100000
DTSTAMP:20260419T140808
CREATED:20240131T165812Z
LAST-MODIFIED:20240131T165812Z
UID:10000070-1734858000-1734861600@berlinfirstbaptist.com
SUMMARY:Sunday School
DESCRIPTION:We divide up into men\, women\, children\, and teens and teach through scripture verse by verse.
URL:https://berlinfirstbaptist.com/event/sunday-school/2024-12-22/
END:VEVENT
BEGIN:VEVENT
DTSTART;TZID=America/New_York:20241222T101500
DTEND;TZID=America/New_York:20241222T113000
DTSTAMP:20260419T140808
CREATED:20240131T170514Z
LAST-MODIFIED:20250824T122301Z
UID:10000335-1734862500-1734867000@berlinfirstbaptist.com
SUMMARY:Worship Service
DESCRIPTION:Join us as we worship together and study verse by verse through the Bible each Sunday morning. Nursery and Truth Seekers available for children 3rd grade and under. Disability accommodations are provided as well.
URL:https://berlinfirstbaptist.com/event/worship-service/2024-12-22/
END:VEVENT
BEGIN:VEVENT
DTSTART;TZID=America/New_York:20241224T170000
DTEND;TZID=America/New_York:20241224T180000
DTSTAMP:20260419T140808
CREATED:20240131T181724Z
LAST-MODIFIED:20240131T181724Z
UID:10000561-1735059600-1735063200@berlinfirstbaptist.com
SUMMARY:Christmas Eve Service
DESCRIPTION:Join us to celebrate the birth of our Savior!
URL:https://berlinfirstbaptist.com/event/christmas-eve-service/
LOCATION:Berlin First Baptist Church\, 613 William St\, Berlin\, MD\, 21811\, United States
END:VEVENT
BEGIN:VEVENT
DTSTART;TZID=America/New_York:20241229T090000
DTEND;TZID=America/New_York:20241229T100000
DTSTAMP:20260419T140808
CREATED:20240131T165812Z
LAST-MODIFIED:20240131T165812Z
UID:10000071-1735462800-1735466400@berlinfirstbaptist.com
SUMMARY:Sunday School
DESCRIPTION:We divide up into men\, women\, children\, and teens and teach through scripture verse by verse.
URL:https://berlinfirstbaptist.com/event/sunday-school/2024-12-29/
END:VEVENT
BEGIN:VEVENT
DTSTART;TZID=America/New_York:20241229T101500
DTEND;TZID=America/New_York:20241229T113000
DTSTAMP:20260419T140808
CREATED:20240131T170514Z
LAST-MODIFIED:20250824T122301Z
UID:10000336-1735467300-1735471800@berlinfirstbaptist.com
SUMMARY:Worship Service
DESCRIPTION:Join us as we worship together and study verse by verse through the Bible each Sunday morning. Nursery and Truth Seekers available for children 3rd grade and under. Disability accommodations are provided as well.
URL:https://berlinfirstbaptist.com/event/worship-service/2024-12-29/
END:VEVENT
BEGIN:VEVENT
DTSTART;TZID=America/New_York:20241231T210000
DTEND;TZID=America/New_York:20250101T000000
DTSTAMP:20260419T140808
CREATED:20240131T200550Z
LAST-MODIFIED:20240131T200550Z
UID:10000748-1735678800-1735689600@berlinfirstbaptist.com
SUMMARY:Student New Years Eve Party
DESCRIPTION:6th-12th grade New Year’s Eve party\, games\, food\, prizes\, and more!
URL:https://berlinfirstbaptist.com/event/student-new-years-eve-party/
LOCATION:Berlin First Baptist Church\, 613 William St\, Berlin\, MD\, 21811\, United States
END:VEVENT
END:VCALENDAR