BEGIN:VCALENDAR
VERSION:2.0
PRODID:-//Berlin First Baptist Church - ECPv6.13.0//NONSGML v1.0//EN
CALSCALE:GREGORIAN
METHOD:PUBLISH
X-WR-CALNAME:Berlin First Baptist Church
X-ORIGINAL-URL:https://berlinfirstbaptist.com
X-WR-CALDESC:Events for Berlin First Baptist Church
REFRESH-INTERVAL;VALUE=DURATION:PT1H
X-Robots-Tag:noindex
X-PUBLISHED-TTL:PT1H
BEGIN:VTIMEZONE
TZID:America/New_York
BEGIN:DAYLIGHT
TZOFFSETFROM:-0500
TZOFFSETTO:-0400
TZNAME:EDT
DTSTART:20240310T070000
END:DAYLIGHT
BEGIN:STANDARD
TZOFFSETFROM:-0400
TZOFFSETTO:-0500
TZNAME:EST
DTSTART:20241103T060000
END:STANDARD
END:VTIMEZONE
BEGIN:VEVENT
DTSTART;TZID=America/New_York:20240804T090000
DTEND;TZID=America/New_York:20240804T100000
DTSTAMP:20260424T170038
CREATED:20240131T165812Z
LAST-MODIFIED:20240131T165812Z
UID:10000050-1722762000-1722765600@berlinfirstbaptist.com
SUMMARY:Sunday School
DESCRIPTION:We divide up into men\, women\, children\, and teens and teach through scripture verse by verse.
URL:https://berlinfirstbaptist.com/event/sunday-school/2024-08-04/
END:VEVENT
BEGIN:VEVENT
DTSTART;TZID=America/New_York:20240804T101500
DTEND;TZID=America/New_York:20240804T113000
DTSTAMP:20260424T170038
CREATED:20240131T170514Z
LAST-MODIFIED:20250824T122301Z
UID:10000315-1722766500-1722771000@berlinfirstbaptist.com
SUMMARY:Worship Service
DESCRIPTION:Join us as we worship together and study verse by verse through the Bible each Sunday morning. Nursery and Truth Seekers available for children 3rd grade and under. Disability accommodations are provided as well.
URL:https://berlinfirstbaptist.com/event/worship-service/2024-08-04/
END:VEVENT
BEGIN:VEVENT
DTSTART;TZID=America/New_York:20240804T163000
DTEND;TZID=America/New_York:20240804T173000
DTSTAMP:20260424T170038
CREATED:20240502T125532Z
LAST-MODIFIED:20240502T125533Z
UID:10000753-1722789000-1722792600@berlinfirstbaptist.com
SUMMARY:Prayer Meeting
DESCRIPTION:Join us as we pray and praise.
URL:https://berlinfirstbaptist.com/event/prayer-meeting-2/2024-08-04/
END:VEVENT
BEGIN:VEVENT
DTSTART;TZID=America/New_York:20240807T173000
DTEND;TZID=America/New_York:20240807T190000
DTSTAMP:20260424T170038
CREATED:20240131T185540Z
LAST-MODIFIED:20241115T032843Z
UID:10000711-1723051800-1723057200@berlinfirstbaptist.com
SUMMARY:Reset (student ministry)
DESCRIPTION:6th-12th grades- join us for food\, games\, and fun while we grow together in our relationship with Jesus
URL:https://berlinfirstbaptist.com/event/reset-only/2024-08-07/
LOCATION:Berlin First Baptist Church\, 613 William St\, Berlin\, MD\, 21811\, United States
END:VEVENT
BEGIN:VEVENT
DTSTART;TZID=America/New_York:20240809T180000
DTEND;TZID=America/New_York:20240809T190000
DTSTAMP:20260424T170038
CREATED:20240131T183120Z
LAST-MODIFIED:20250107T181002Z
UID:10000568-1723226400-1723230000@berlinfirstbaptist.com
SUMMARY:Hymn Sing Outreach
DESCRIPTION:See Pastor Grant for more details.
URL:https://berlinfirstbaptist.com/event/hymn-singing/2024-08-09/
LOCATION:Gull Creek\, 1 Meadow St\, Berlin\, MD\, 21811\, United States
END:VEVENT
BEGIN:VEVENT
DTSTART;TZID=America/New_York:20240811T090000
DTEND;TZID=America/New_York:20240811T100000
DTSTAMP:20260424T170038
CREATED:20240131T165812Z
LAST-MODIFIED:20240131T165812Z
UID:10000051-1723366800-1723370400@berlinfirstbaptist.com
SUMMARY:Sunday School
DESCRIPTION:We divide up into men\, women\, children\, and teens and teach through scripture verse by verse.
URL:https://berlinfirstbaptist.com/event/sunday-school/2024-08-11/
END:VEVENT
BEGIN:VEVENT
DTSTART;TZID=America/New_York:20240811T101500
DTEND;TZID=America/New_York:20240811T113000
DTSTAMP:20260424T170038
CREATED:20240131T170514Z
LAST-MODIFIED:20250824T122301Z
UID:10000316-1723371300-1723375800@berlinfirstbaptist.com
SUMMARY:Worship Service
DESCRIPTION:Join us as we worship together and study verse by verse through the Bible each Sunday morning. Nursery and Truth Seekers available for children 3rd grade and under. Disability accommodations are provided as well.
URL:https://berlinfirstbaptist.com/event/worship-service/2024-08-11/
END:VEVENT
BEGIN:VEVENT
DTSTART;TZID=America/New_York:20240811T113000
DTEND;TZID=America/New_York:20240811T133000
DTSTAMP:20260424T170038
CREATED:20240728T132600Z
LAST-MODIFIED:20240728T132600Z
UID:10000941-1723375800-1723383000@berlinfirstbaptist.com
SUMMARY:Ladies' Game Day
DESCRIPTION:Ladies\, stay after church service and join us for games and fun!  Lunch will be provided.
URL:https://berlinfirstbaptist.com/event/ladies-game-day/
END:VEVENT
BEGIN:VEVENT
DTSTART;TZID=America/New_York:20240814T173000
DTEND;TZID=America/New_York:20240814T190000
DTSTAMP:20260424T170038
CREATED:20240131T185540Z
LAST-MODIFIED:20241115T032843Z
UID:10000712-1723656600-1723662000@berlinfirstbaptist.com
SUMMARY:Reset (student ministry)
DESCRIPTION:6th-12th grades- join us for food\, games\, and fun while we grow together in our relationship with Jesus
URL:https://berlinfirstbaptist.com/event/reset-only/2024-08-14/
LOCATION:Berlin First Baptist Church\, 613 William St\, Berlin\, MD\, 21811\, United States
END:VEVENT
BEGIN:VEVENT
DTSTART;TZID=America/New_York:20240817T083000
DTEND;TZID=America/New_York:20240817T100000
DTSTAMP:20260424T170038
CREATED:20240721T200804Z
LAST-MODIFIED:20240721T200804Z
UID:10000939-1723883400-1723888800@berlinfirstbaptist.com
SUMMARY:Men's Breakfast
DESCRIPTION:Join us at Abi’s Diner for a time of food and fellowship.
URL:https://berlinfirstbaptist.com/event/mens-breakfast-2/
END:VEVENT
BEGIN:VEVENT
DTSTART;TZID=America/New_York:20240818T090000
DTEND;TZID=America/New_York:20240818T100000
DTSTAMP:20260424T170038
CREATED:20240131T165812Z
LAST-MODIFIED:20240131T165812Z
UID:10000052-1723971600-1723975200@berlinfirstbaptist.com
SUMMARY:Sunday School
DESCRIPTION:We divide up into men\, women\, children\, and teens and teach through scripture verse by verse.
URL:https://berlinfirstbaptist.com/event/sunday-school/2024-08-18/
END:VEVENT
BEGIN:VEVENT
DTSTART;TZID=America/New_York:20240818T101500
DTEND;TZID=America/New_York:20240818T113000
DTSTAMP:20260424T170038
CREATED:20240131T170514Z
LAST-MODIFIED:20250824T122301Z
UID:10000317-1723976100-1723980600@berlinfirstbaptist.com
SUMMARY:Worship Service
DESCRIPTION:Join us as we worship together and study verse by verse through the Bible each Sunday morning. Nursery and Truth Seekers available for children 3rd grade and under. Disability accommodations are provided as well.
URL:https://berlinfirstbaptist.com/event/worship-service/2024-08-18/
END:VEVENT
BEGIN:VEVENT
DTSTART;TZID=America/New_York:20240818T113000
DTEND;TZID=America/New_York:20240818T123000
DTSTAMP:20260424T170038
CREATED:20240524T132946Z
LAST-MODIFIED:20240524T132946Z
UID:10000922-1723980600-1723984200@berlinfirstbaptist.com
SUMMARY:CLT Meeting
DESCRIPTION:Meets after worship service.
URL:https://berlinfirstbaptist.com/event/clt-meeting/2024-08-18/
END:VEVENT
BEGIN:VEVENT
DTSTART;TZID=America/New_York:20240821T173000
DTEND;TZID=America/New_York:20240821T190000
DTSTAMP:20260424T170038
CREATED:20240131T185540Z
LAST-MODIFIED:20241115T032843Z
UID:10000713-1724261400-1724266800@berlinfirstbaptist.com
SUMMARY:Reset (student ministry)
DESCRIPTION:6th-12th grades- join us for food\, games\, and fun while we grow together in our relationship with Jesus
URL:https://berlinfirstbaptist.com/event/reset-only/2024-08-21/
LOCATION:Berlin First Baptist Church\, 613 William St\, Berlin\, MD\, 21811\, United States
END:VEVENT
BEGIN:VEVENT
DTSTART;TZID=America/New_York:20240823T180000
DTEND;TZID=America/New_York:20240823T200000
DTSTAMP:20260424T170038
CREATED:20240131T193412Z
LAST-MODIFIED:20240131T193412Z
UID:10000721-1724436000-1724443200@berlinfirstbaptist.com
SUMMARY:Student Back to School Event
DESCRIPTION:An event to celebrate the start of the school year!
URL:https://berlinfirstbaptist.com/event/student-back-to-school-event/
END:VEVENT
BEGIN:VEVENT
DTSTART;TZID=America/New_York:20240825T090000
DTEND;TZID=America/New_York:20240825T100000
DTSTAMP:20260424T170038
CREATED:20240131T165812Z
LAST-MODIFIED:20240131T165812Z
UID:10000053-1724576400-1724580000@berlinfirstbaptist.com
SUMMARY:Sunday School
DESCRIPTION:We divide up into men\, women\, children\, and teens and teach through scripture verse by verse.
URL:https://berlinfirstbaptist.com/event/sunday-school/2024-08-25/
END:VEVENT
BEGIN:VEVENT
DTSTART;TZID=America/New_York:20240825T101500
DTEND;TZID=America/New_York:20240825T113000
DTSTAMP:20260424T170038
CREATED:20240131T170514Z
LAST-MODIFIED:20250824T122301Z
UID:10000318-1724580900-1724585400@berlinfirstbaptist.com
SUMMARY:Worship Service
DESCRIPTION:Join us as we worship together and study verse by verse through the Bible each Sunday morning. Nursery and Truth Seekers available for children 3rd grade and under. Disability accommodations are provided as well.
URL:https://berlinfirstbaptist.com/event/worship-service/2024-08-25/
END:VEVENT
BEGIN:VEVENT
DTSTART;TZID=America/New_York:20240828T173000
DTEND;TZID=America/New_York:20240828T190000
DTSTAMP:20260424T170038
CREATED:20240131T185540Z
LAST-MODIFIED:20241115T032843Z
UID:10000714-1724866200-1724871600@berlinfirstbaptist.com
SUMMARY:Reset (student ministry)
DESCRIPTION:6th-12th grades- join us for food\, games\, and fun while we grow together in our relationship with Jesus
URL:https://berlinfirstbaptist.com/event/reset-only/2024-08-28/
LOCATION:Berlin First Baptist Church\, 613 William St\, Berlin\, MD\, 21811\, United States
END:VEVENT
END:VCALENDAR