BEGIN:VCALENDAR
VERSION:2.0
PRODID:-//Berlin First Baptist Church - ECPv6.13.0//NONSGML v1.0//EN
CALSCALE:GREGORIAN
METHOD:PUBLISH
X-WR-CALNAME:Berlin First Baptist Church
X-ORIGINAL-URL:https://berlinfirstbaptist.com
X-WR-CALDESC:Events for Berlin First Baptist Church
REFRESH-INTERVAL;VALUE=DURATION:PT1H
X-Robots-Tag:noindex
X-PUBLISHED-TTL:PT1H
BEGIN:VTIMEZONE
TZID:America/New_York
BEGIN:DAYLIGHT
TZOFFSETFROM:-0500
TZOFFSETTO:-0400
TZNAME:EDT
DTSTART:20240310T070000
END:DAYLIGHT
BEGIN:STANDARD
TZOFFSETFROM:-0400
TZOFFSETTO:-0500
TZNAME:EST
DTSTART:20241103T060000
END:STANDARD
END:VTIMEZONE
BEGIN:VEVENT
DTSTART;TZID=America/New_York:20240703T173000
DTEND;TZID=America/New_York:20240703T190000
DTSTAMP:20260422T003425
CREATED:20240131T185540Z
LAST-MODIFIED:20241115T032843Z
UID:10000706-1720027800-1720033200@berlinfirstbaptist.com
SUMMARY:Reset (student ministry)
DESCRIPTION:6th-12th grades- join us for food\, games\, and fun while we grow together in our relationship with Jesus
URL:https://berlinfirstbaptist.com/event/reset-only/2024-07-03/
LOCATION:Berlin First Baptist Church\, 613 William St\, Berlin\, MD\, 21811\, United States
END:VEVENT
BEGIN:VEVENT
DTSTART;TZID=America/New_York:20240703T180000
DTEND;TZID=America/New_York:20240703T220000
DTSTAMP:20260422T003425
CREATED:20231229T170436Z
LAST-MODIFIED:20231229T170436Z
UID:10000002-1720029600-1720044000@berlinfirstbaptist.com
SUMMARY:3rd of July Fireworks
DESCRIPTION:3rd of July is a family friendly event! We have free games\, food\, inflatables\, and watch the town of Berlin’s fireworks.
URL:https://berlinfirstbaptist.com/event/3rd-of-july-fireworks/
END:VEVENT
BEGIN:VEVENT
DTSTART;VALUE=DATE:20240706
DTEND;VALUE=DATE:20240707
DTSTAMP:20260422T003425
CREATED:20240605T010904Z
LAST-MODIFIED:20240605T011050Z
UID:10000935-1720224000-1720310399@berlinfirstbaptist.com
SUMMARY:Student Ministry- Shorebirds Game
DESCRIPTION:Contact Pastor Brad if you’d like to join in the fun at a Shorebirds game!
URL:https://berlinfirstbaptist.com/event/student-ministry-shorebirds-game/
END:VEVENT
BEGIN:VEVENT
DTSTART;TZID=America/New_York:20240707T090000
DTEND;TZID=America/New_York:20240707T100000
DTSTAMP:20260422T003425
CREATED:20240131T165812Z
LAST-MODIFIED:20240131T165812Z
UID:10000046-1720342800-1720346400@berlinfirstbaptist.com
SUMMARY:Sunday School
DESCRIPTION:We divide up into men\, women\, children\, and teens and teach through scripture verse by verse.
URL:https://berlinfirstbaptist.com/event/sunday-school/2024-07-07/
END:VEVENT
BEGIN:VEVENT
DTSTART;TZID=America/New_York:20240707T101500
DTEND;TZID=America/New_York:20240707T113000
DTSTAMP:20260422T003425
CREATED:20240131T170514Z
LAST-MODIFIED:20250824T122301Z
UID:10000311-1720347300-1720351800@berlinfirstbaptist.com
SUMMARY:Worship Service
DESCRIPTION:Join us as we worship together and study verse by verse through the Bible each Sunday morning. Nursery and Truth Seekers available for children 3rd grade and under. Disability accommodations are provided as well.
URL:https://berlinfirstbaptist.com/event/worship-service/2024-07-07/
END:VEVENT
BEGIN:VEVENT
DTSTART;TZID=America/New_York:20240707T163000
DTEND;TZID=America/New_York:20240707T173000
DTSTAMP:20260422T003425
CREATED:20240502T125532Z
LAST-MODIFIED:20240502T125533Z
UID:10000752-1720369800-1720373400@berlinfirstbaptist.com
SUMMARY:Prayer Meeting
DESCRIPTION:Join us as we pray and praise.
URL:https://berlinfirstbaptist.com/event/prayer-meeting-2/2024-07-07/
END:VEVENT
BEGIN:VEVENT
DTSTART;TZID=America/New_York:20240710T173000
DTEND;TZID=America/New_York:20240710T190000
DTSTAMP:20260422T003425
CREATED:20240131T185540Z
LAST-MODIFIED:20241115T032843Z
UID:10000707-1720632600-1720638000@berlinfirstbaptist.com
SUMMARY:Reset (student ministry)
DESCRIPTION:6th-12th grades- join us for food\, games\, and fun while we grow together in our relationship with Jesus
URL:https://berlinfirstbaptist.com/event/reset-only/2024-07-10/
LOCATION:Berlin First Baptist Church\, 613 William St\, Berlin\, MD\, 21811\, United States
END:VEVENT
BEGIN:VEVENT
DTSTART;TZID=America/New_York:20240712T180000
DTEND;TZID=America/New_York:20240712T190000
DTSTAMP:20260422T003425
CREATED:20240131T183120Z
LAST-MODIFIED:20250107T181002Z
UID:10000567-1720807200-1720810800@berlinfirstbaptist.com
SUMMARY:Hymn Sing Outreach
DESCRIPTION:See Pastor Grant for more details.
URL:https://berlinfirstbaptist.com/event/hymn-singing/2024-07-12/
LOCATION:Gull Creek\, 1 Meadow St\, Berlin\, MD\, 21811\, United States
END:VEVENT
BEGIN:VEVENT
DTSTART;TZID=America/New_York:20240713T120000
DTEND;TZID=America/New_York:20240713T130000
DTSTAMP:20260422T003425
CREATED:20240602T131135Z
LAST-MODIFIED:20240602T131135Z
UID:10000933-1720872000-1720875600@berlinfirstbaptist.com
SUMMARY:SOS Ice Cream Social
DESCRIPTION:Join us at the West OC Dairy Queen for our SOS Social get-together.
URL:https://berlinfirstbaptist.com/event/sos-ice-cream-social/
END:VEVENT
BEGIN:VEVENT
DTSTART;TZID=America/New_York:20240713T180000
DTEND;TZID=America/New_York:20240713T210000
DTSTAMP:20260422T003425
CREATED:20240610T154405Z
LAST-MODIFIED:20240610T154405Z
UID:10000937-1720893600-1720904400@berlinfirstbaptist.com
SUMMARY:Student Ministry Hangout Night
DESCRIPTION:Details To Come
URL:https://berlinfirstbaptist.com/event/student-ministry-hangout-night/
END:VEVENT
BEGIN:VEVENT
DTSTART;TZID=America/New_York:20240714T090000
DTEND;TZID=America/New_York:20240714T100000
DTSTAMP:20260422T003425
CREATED:20240131T165812Z
LAST-MODIFIED:20240131T165812Z
UID:10000047-1720947600-1720951200@berlinfirstbaptist.com
SUMMARY:Sunday School
DESCRIPTION:We divide up into men\, women\, children\, and teens and teach through scripture verse by verse.
URL:https://berlinfirstbaptist.com/event/sunday-school/2024-07-14/
END:VEVENT
BEGIN:VEVENT
DTSTART;TZID=America/New_York:20240714T101500
DTEND;TZID=America/New_York:20240714T113000
DTSTAMP:20260422T003425
CREATED:20240131T170514Z
LAST-MODIFIED:20250824T122301Z
UID:10000312-1720952100-1720956600@berlinfirstbaptist.com
SUMMARY:Worship Service
DESCRIPTION:Join us as we worship together and study verse by verse through the Bible each Sunday morning. Nursery and Truth Seekers available for children 3rd grade and under. Disability accommodations are provided as well.
URL:https://berlinfirstbaptist.com/event/worship-service/2024-07-14/
END:VEVENT
BEGIN:VEVENT
DTSTART;TZID=America/New_York:20240714T113000
DTEND;TZID=America/New_York:20240714T123000
DTSTAMP:20260422T003425
CREATED:20240524T132946Z
LAST-MODIFIED:20240524T132946Z
UID:10000921-1720956600-1720960200@berlinfirstbaptist.com
SUMMARY:CLT Meeting
DESCRIPTION:Meets after worship service.
URL:https://berlinfirstbaptist.com/event/clt-meeting/2024-07-14/
END:VEVENT
BEGIN:VEVENT
DTSTART;VALUE=DATE:20240715
DTEND;VALUE=DATE:20240720
DTSTAMP:20260422T003425
CREATED:20240131T193055Z
LAST-MODIFIED:20240131T193055Z
UID:10000719-1721001600-1721433599@berlinfirstbaptist.com
SUMMARY:Students at Camp
DESCRIPTION:Students will be at Centrifuge Camp this week!
URL:https://berlinfirstbaptist.com/event/students-at-camp/
END:VEVENT
BEGIN:VEVENT
DTSTART;TZID=America/New_York:20240717T173000
DTEND;TZID=America/New_York:20240717T190000
DTSTAMP:20260422T003425
CREATED:20240131T185540Z
LAST-MODIFIED:20241115T032843Z
UID:10000708-1721237400-1721242800@berlinfirstbaptist.com
SUMMARY:Reset (student ministry)
DESCRIPTION:6th-12th grades- join us for food\, games\, and fun while we grow together in our relationship with Jesus
URL:https://berlinfirstbaptist.com/event/reset-only/2024-07-17/
LOCATION:Berlin First Baptist Church\, 613 William St\, Berlin\, MD\, 21811\, United States
END:VEVENT
BEGIN:VEVENT
DTSTART;TZID=America/New_York:20240721T090000
DTEND;TZID=America/New_York:20240721T100000
DTSTAMP:20260422T003425
CREATED:20240131T165812Z
LAST-MODIFIED:20240131T165812Z
UID:10000048-1721552400-1721556000@berlinfirstbaptist.com
SUMMARY:Sunday School
DESCRIPTION:We divide up into men\, women\, children\, and teens and teach through scripture verse by verse.
URL:https://berlinfirstbaptist.com/event/sunday-school/2024-07-21/
END:VEVENT
BEGIN:VEVENT
DTSTART;TZID=America/New_York:20240721T101500
DTEND;TZID=America/New_York:20240721T113000
DTSTAMP:20260422T003425
CREATED:20240131T170514Z
LAST-MODIFIED:20250824T122301Z
UID:10000313-1721556900-1721561400@berlinfirstbaptist.com
SUMMARY:Worship Service
DESCRIPTION:Join us as we worship together and study verse by verse through the Bible each Sunday morning. Nursery and Truth Seekers available for children 3rd grade and under. Disability accommodations are provided as well.
URL:https://berlinfirstbaptist.com/event/worship-service/2024-07-21/
END:VEVENT
BEGIN:VEVENT
DTSTART;TZID=America/New_York:20240721T113000
DTEND;TZID=America/New_York:20240721T123000
DTSTAMP:20260422T003425
CREATED:20240524T133116Z
LAST-MODIFIED:20240524T133116Z
UID:10000926-1721561400-1721565000@berlinfirstbaptist.com
SUMMARY:Business Meeting
DESCRIPTION:Meets after worship service.
URL:https://berlinfirstbaptist.com/event/business-meeting/2024-07-21/
END:VEVENT
BEGIN:VEVENT
DTSTART;TZID=America/New_York:20240724T173000
DTEND;TZID=America/New_York:20240724T190000
DTSTAMP:20260422T003425
CREATED:20240131T185540Z
LAST-MODIFIED:20241115T032843Z
UID:10000709-1721842200-1721847600@berlinfirstbaptist.com
SUMMARY:Reset (student ministry)
DESCRIPTION:6th-12th grades- join us for food\, games\, and fun while we grow together in our relationship with Jesus
URL:https://berlinfirstbaptist.com/event/reset-only/2024-07-24/
LOCATION:Berlin First Baptist Church\, 613 William St\, Berlin\, MD\, 21811\, United States
END:VEVENT
BEGIN:VEVENT
DTSTART;TZID=America/New_York:20240727T180000
DTEND;TZID=America/New_York:20240727T200000
DTSTAMP:20260422T003425
CREATED:20240602T130332Z
LAST-MODIFIED:20240604T153533Z
UID:10000929-1722103200-1722110400@berlinfirstbaptist.com
SUMMARY:Amazing Race- Women's Event
DESCRIPTION:Ladies\, join us for a fun evening as we fellowship together!
URL:https://berlinfirstbaptist.com/event/amazing-race-womens-event/
END:VEVENT
BEGIN:VEVENT
DTSTART;VALUE=DATE:20240728
DTEND;VALUE=DATE:20240729
DTSTAMP:20260422T003425
CREATED:20240605T011001Z
LAST-MODIFIED:20240608T133239Z
UID:10000936-1722124800-1722211199@berlinfirstbaptist.com
SUMMARY:Student Ministry- Pool Party
DESCRIPTION:Contact Pastor Brad for more information\, come join in on the fun in the sun!
URL:https://berlinfirstbaptist.com/event/student-ministry-pool-party-op-beach-club/
END:VEVENT
BEGIN:VEVENT
DTSTART;TZID=America/New_York:20240728T090000
DTEND;TZID=America/New_York:20240728T100000
DTSTAMP:20260422T003425
CREATED:20240131T165812Z
LAST-MODIFIED:20240131T165812Z
UID:10000049-1722157200-1722160800@berlinfirstbaptist.com
SUMMARY:Sunday School
DESCRIPTION:We divide up into men\, women\, children\, and teens and teach through scripture verse by verse.
URL:https://berlinfirstbaptist.com/event/sunday-school/2024-07-28/
END:VEVENT
BEGIN:VEVENT
DTSTART;TZID=America/New_York:20240728T101500
DTEND;TZID=America/New_York:20240728T113000
DTSTAMP:20260422T003425
CREATED:20240131T170514Z
LAST-MODIFIED:20250824T122301Z
UID:10000314-1722161700-1722166200@berlinfirstbaptist.com
SUMMARY:Worship Service
DESCRIPTION:Join us as we worship together and study verse by verse through the Bible each Sunday morning. Nursery and Truth Seekers available for children 3rd grade and under. Disability accommodations are provided as well.
URL:https://berlinfirstbaptist.com/event/worship-service/2024-07-28/
END:VEVENT
BEGIN:VEVENT
DTSTART;TZID=America/New_York:20240731T173000
DTEND;TZID=America/New_York:20240731T190000
DTSTAMP:20260422T003426
CREATED:20240131T185540Z
LAST-MODIFIED:20241115T032843Z
UID:10000710-1722447000-1722452400@berlinfirstbaptist.com
SUMMARY:Reset (student ministry)
DESCRIPTION:6th-12th grades- join us for food\, games\, and fun while we grow together in our relationship with Jesus
URL:https://berlinfirstbaptist.com/event/reset-only/2024-07-31/
LOCATION:Berlin First Baptist Church\, 613 William St\, Berlin\, MD\, 21811\, United States
END:VEVENT
END:VCALENDAR