BEGIN:VCALENDAR
VERSION:2.0
PRODID:-//Berlin First Baptist Church - ECPv6.13.0//NONSGML v1.0//EN
CALSCALE:GREGORIAN
METHOD:PUBLISH
X-WR-CALNAME:Berlin First Baptist Church
X-ORIGINAL-URL:https://berlinfirstbaptist.com
X-WR-CALDESC:Events for Berlin First Baptist Church
REFRESH-INTERVAL;VALUE=DURATION:PT1H
X-Robots-Tag:noindex
X-PUBLISHED-TTL:PT1H
BEGIN:VTIMEZONE
TZID:America/New_York
BEGIN:DAYLIGHT
TZOFFSETFROM:-0500
TZOFFSETTO:-0400
TZNAME:EDT
DTSTART:20260308T070000
END:DAYLIGHT
BEGIN:STANDARD
TZOFFSETFROM:-0400
TZOFFSETTO:-0500
TZNAME:EST
DTSTART:20261101T060000
END:STANDARD
END:VTIMEZONE
BEGIN:VEVENT
DTSTART;TZID=America/New_York:20260425T090000
DTEND;TZID=America/New_York:20260425T150000
DTSTAMP:20260421T113145
CREATED:20260325T140954Z
LAST-MODIFIED:20260327T143537Z
UID:10002307-1777107600-1777129200@berlinfirstbaptist.com
SUMMARY:Youth Yard Clean Up fundraiser
DESCRIPTION:
URL:https://berlinfirstbaptist.com/event/youth-yard-clean-up-fundraiser/
END:VEVENT
BEGIN:VEVENT
DTSTART;TZID=America/New_York:20260425T160000
DTEND;TZID=America/New_York:20260425T190000
DTSTAMP:20260421T113145
CREATED:20260327T201128Z
LAST-MODIFIED:20260327T201136Z
UID:10002308-1777132800-1777143600@berlinfirstbaptist.com
SUMMARY:Ladies' Movie & Fellowship Night
DESCRIPTION:Join us for fellowship and a special movie night together!
URL:https://berlinfirstbaptist.com/event/ladies-movie-night-fellowship-night/
END:VEVENT
END:VCALENDAR