BEGIN:VCALENDAR
VERSION:2.0
PRODID:-//Berlin First Baptist Church - ECPv6.13.0//NONSGML v1.0//EN
CALSCALE:GREGORIAN
METHOD:PUBLISH
X-ORIGINAL-URL:https://berlinfirstbaptist.com
X-WR-CALDESC:Events for Berlin First Baptist Church
REFRESH-INTERVAL;VALUE=DURATION:PT1H
X-Robots-Tag:noindex
X-PUBLISHED-TTL:PT1H
BEGIN:VTIMEZONE
TZID:America/New_York
BEGIN:DAYLIGHT
TZOFFSETFROM:-0500
TZOFFSETTO:-0400
TZNAME:EDT
DTSTART:20260308T070000
END:DAYLIGHT
BEGIN:STANDARD
TZOFFSETFROM:-0400
TZOFFSETTO:-0500
TZNAME:EST
DTSTART:20261101T060000
END:STANDARD
END:VTIMEZONE
BEGIN:VEVENT
DTSTART;TZID=America/New_York:20260401T173000
DTEND;TZID=America/New_York:20260401T190000
DTSTAMP:20260421T113455
CREATED:20251007T201755Z
LAST-MODIFIED:20251207T015611Z
UID:10001973-1775064600-1775070000@berlinfirstbaptist.com
SUMMARY:AWANA
DESCRIPTION:Pre-K to 5th grade\, join us on Wednesday evenings as we have FUN learning about Jesus!
URL:https://berlinfirstbaptist.com/event/awana-3/2026-04-01/
END:VEVENT
BEGIN:VEVENT
DTSTART;TZID=America/New_York:20260401T180000
DTEND;TZID=America/New_York:20260401T193000
DTSTAMP:20260421T113455
CREATED:20251006T152948Z
LAST-MODIFIED:20251006T152948Z
UID:10001714-1775066400-1775071800@berlinfirstbaptist.com
SUMMARY:Faithful Friends FFIND Youth Group
DESCRIPTION:Our weekly group meeting for those with needs & disabilities- please see Melanie or Shannon for details.
URL:https://berlinfirstbaptist.com/event/faithful-friends-ffind-youth-group/2026-04-01/
END:VEVENT
END:VCALENDAR