BEGIN:VCALENDAR
VERSION:2.0
PRODID:-//Berlin First Baptist Church - ECPv6.13.0//NONSGML v1.0//EN
CALSCALE:GREGORIAN
METHOD:PUBLISH
X-ORIGINAL-URL:https://berlinfirstbaptist.com
X-WR-CALDESC:Events for Berlin First Baptist Church
REFRESH-INTERVAL;VALUE=DURATION:PT1H
X-Robots-Tag:noindex
X-PUBLISHED-TTL:PT1H
BEGIN:VTIMEZONE
TZID:America/New_York
BEGIN:DAYLIGHT
TZOFFSETFROM:-0500
TZOFFSETTO:-0400
TZNAME:EDT
DTSTART:20260308T070000
END:DAYLIGHT
BEGIN:STANDARD
TZOFFSETFROM:-0400
TZOFFSETTO:-0500
TZNAME:EST
DTSTART:20261101T060000
END:STANDARD
END:VTIMEZONE
BEGIN:VEVENT
DTSTART;TZID=America/New_York:20260306T180000
DTEND;TZID=America/New_York:20260306T200000
DTSTAMP:20260422T021018
CREATED:20260107T163316Z
LAST-MODIFIED:20260107T163316Z
UID:10002286-1772820000-1772827200@berlinfirstbaptist.com
SUMMARY:Disability FFIND Event
DESCRIPTION:See Shannon or Melanie to register
URL:https://berlinfirstbaptist.com/event/disability-ffind-event/
END:VEVENT
END:VCALENDAR