BEGIN:VCALENDAR
VERSION:2.0
PRODID:-//Berlin First Baptist Church - ECPv6.13.0//NONSGML v1.0//EN
CALSCALE:GREGORIAN
METHOD:PUBLISH
X-ORIGINAL-URL:https://berlinfirstbaptist.com
X-WR-CALDESC:Events for Berlin First Baptist Church
REFRESH-INTERVAL;VALUE=DURATION:PT1H
X-Robots-Tag:noindex
X-PUBLISHED-TTL:PT1H
BEGIN:VTIMEZONE
TZID:America/New_York
BEGIN:DAYLIGHT
TZOFFSETFROM:-0500
TZOFFSETTO:-0400
TZNAME:EDT
DTSTART:20250309T070000
END:DAYLIGHT
BEGIN:STANDARD
TZOFFSETFROM:-0400
TZOFFSETTO:-0500
TZNAME:EST
DTSTART:20251102T060000
END:STANDARD
END:VTIMEZONE
BEGIN:VEVENT
DTSTART;TZID=America/New_York:20250302T090000
DTEND;TZID=America/New_York:20250302T100000
DTSTAMP:20260423T071135
CREATED:20240131T165812Z
LAST-MODIFIED:20240131T165812Z
UID:10000080-1740906000-1740909600@berlinfirstbaptist.com
SUMMARY:Sunday School
DESCRIPTION:We divide up into men\, women\, children\, and teens and teach through scripture verse by verse.
URL:https://berlinfirstbaptist.com/event/sunday-school/2025-03-02/
END:VEVENT
BEGIN:VEVENT
DTSTART;TZID=America/New_York:20250302T101500
DTEND;TZID=America/New_York:20250302T113000
DTSTAMP:20260423T071135
CREATED:20240131T170514Z
LAST-MODIFIED:20250824T122301Z
UID:10000345-1740910500-1740915000@berlinfirstbaptist.com
SUMMARY:Worship Service
DESCRIPTION:Join us as we worship together and study verse by verse through the Bible each Sunday morning. Nursery and Truth Seekers available for children 3rd grade and under. Disability accommodations are provided as well.
URL:https://berlinfirstbaptist.com/event/worship-service/2025-03-02/
END:VEVENT
BEGIN:VEVENT
DTSTART;TZID=America/New_York:20250302T170000
DTEND;TZID=America/New_York:20250302T180000
DTSTAMP:20260423T071135
CREATED:20250126T185047Z
LAST-MODIFIED:20250126T185047Z
UID:10001421-1740934800-1740938400@berlinfirstbaptist.com
SUMMARY:Prayer Meeting
DESCRIPTION:Join us as we pray and praise.
URL:https://berlinfirstbaptist.com/event/prayer-meeting-2-2/2025-03-02/
END:VEVENT
BEGIN:VEVENT
DTSTART;TZID=America/New_York:20250302T180000
DTEND;TZID=America/New_York:20250302T193000
DTSTAMP:20260423T071135
CREATED:20250228T141651Z
LAST-MODIFIED:20250521T135113Z
UID:10001512-1740938400-1740943800@berlinfirstbaptist.com
SUMMARY:Student Ministry Group Night
DESCRIPTION:Students 6th-12th grades\, join us as we split into small groups and dive into God’s Word together.  See Pastor Brad for locations and details.
URL:https://berlinfirstbaptist.com/event/student-ministry-group-night/2025-03-02/
END:VEVENT
END:VCALENDAR