BEGIN:VCALENDAR
VERSION:2.0
PRODID:-//Berlin First Baptist Church - ECPv6.13.0//NONSGML v1.0//EN
CALSCALE:GREGORIAN
METHOD:PUBLISH
X-ORIGINAL-URL:https://berlinfirstbaptist.com
X-WR-CALDESC:Events for Berlin First Baptist Church
REFRESH-INTERVAL;VALUE=DURATION:PT1H
X-Robots-Tag:noindex
X-PUBLISHED-TTL:PT1H
BEGIN:VTIMEZONE
TZID:America/New_York
BEGIN:DAYLIGHT
TZOFFSETFROM:-0500
TZOFFSETTO:-0400
TZNAME:EDT
DTSTART:20240310T070000
END:DAYLIGHT
BEGIN:STANDARD
TZOFFSETFROM:-0400
TZOFFSETTO:-0500
TZNAME:EST
DTSTART:20241103T060000
END:STANDARD
END:VTIMEZONE
BEGIN:VEVENT
DTSTART;VALUE=DATE:20241215
DTEND;VALUE=DATE:20241216
DTSTAMP:20260419T154437
CREATED:20241115T032446Z
LAST-MODIFIED:20241115T035003Z
UID:10000973-1734220800-1734307199@berlinfirstbaptist.com
SUMMARY:Student Gift Wrapping Fundraiser
DESCRIPTION:Come to our Christmas Workshop and get your holiday gifts wrapped. Thank you for supporting our youth!  Call the church for details on this event.
URL:https://berlinfirstbaptist.com/event/youth-group-gift-wrapping-fundraiser/
END:VEVENT
BEGIN:VEVENT
DTSTART;TZID=America/New_York:20241215T090000
DTEND;TZID=America/New_York:20241215T100000
DTSTAMP:20260419T154437
CREATED:20240131T165812Z
LAST-MODIFIED:20240131T165812Z
UID:10000069-1734253200-1734256800@berlinfirstbaptist.com
SUMMARY:Sunday School
DESCRIPTION:We divide up into men\, women\, children\, and teens and teach through scripture verse by verse.
URL:https://berlinfirstbaptist.com/event/sunday-school/2024-12-15/
END:VEVENT
BEGIN:VEVENT
DTSTART;TZID=America/New_York:20241215T101500
DTEND;TZID=America/New_York:20241215T113000
DTSTAMP:20260419T154437
CREATED:20240131T170514Z
LAST-MODIFIED:20250824T122301Z
UID:10000334-1734257700-1734262200@berlinfirstbaptist.com
SUMMARY:Worship Service
DESCRIPTION:Join us as we worship together and study verse by verse through the Bible each Sunday morning. Nursery and Truth Seekers available for children 3rd grade and under. Disability accommodations are provided as well.
URL:https://berlinfirstbaptist.com/event/worship-service/2024-12-15/
END:VEVENT
END:VCALENDAR