BEGIN:VCALENDAR
VERSION:2.0
PRODID:-//Berlin First Baptist Church - ECPv6.13.0//NONSGML v1.0//EN
CALSCALE:GREGORIAN
METHOD:PUBLISH
X-ORIGINAL-URL:https://berlinfirstbaptist.com
X-WR-CALDESC:Events for Berlin First Baptist Church
REFRESH-INTERVAL;VALUE=DURATION:PT1H
X-Robots-Tag:noindex
X-PUBLISHED-TTL:PT1H
BEGIN:VTIMEZONE
TZID:America/New_York
BEGIN:DAYLIGHT
TZOFFSETFROM:-0500
TZOFFSETTO:-0400
TZNAME:EDT
DTSTART:20240310T070000
END:DAYLIGHT
BEGIN:STANDARD
TZOFFSETFROM:-0400
TZOFFSETTO:-0500
TZNAME:EST
DTSTART:20241103T060000
END:STANDARD
END:VTIMEZONE
BEGIN:VEVENT
DTSTART;TZID=America/New_York:20240714T090000
DTEND;TZID=America/New_York:20240714T100000
DTSTAMP:20260422T005757
CREATED:20240131T165812Z
LAST-MODIFIED:20240131T165812Z
UID:10000047-1720947600-1720951200@berlinfirstbaptist.com
SUMMARY:Sunday School
DESCRIPTION:We divide up into men\, women\, children\, and teens and teach through scripture verse by verse.
URL:https://berlinfirstbaptist.com/event/sunday-school/2024-07-14/
END:VEVENT
BEGIN:VEVENT
DTSTART;TZID=America/New_York:20240714T101500
DTEND;TZID=America/New_York:20240714T113000
DTSTAMP:20260422T005757
CREATED:20240131T170514Z
LAST-MODIFIED:20250824T122301Z
UID:10000312-1720952100-1720956600@berlinfirstbaptist.com
SUMMARY:Worship Service
DESCRIPTION:Join us as we worship together and study verse by verse through the Bible each Sunday morning. Nursery and Truth Seekers available for children 3rd grade and under. Disability accommodations are provided as well.
URL:https://berlinfirstbaptist.com/event/worship-service/2024-07-14/
END:VEVENT
BEGIN:VEVENT
DTSTART;TZID=America/New_York:20240714T113000
DTEND;TZID=America/New_York:20240714T123000
DTSTAMP:20260422T005757
CREATED:20240524T132946Z
LAST-MODIFIED:20240524T132946Z
UID:10000921-1720956600-1720960200@berlinfirstbaptist.com
SUMMARY:CLT Meeting
DESCRIPTION:Meets after worship service.
URL:https://berlinfirstbaptist.com/event/clt-meeting/2024-07-14/
END:VEVENT
END:VCALENDAR