BEGIN:VCALENDAR
VERSION:2.0
PRODID:-//Berlin First Baptist Church - ECPv6.13.0//NONSGML v1.0//EN
CALSCALE:GREGORIAN
METHOD:PUBLISH
X-ORIGINAL-URL:https://berlinfirstbaptist.com
X-WR-CALDESC:Events for Berlin First Baptist Church
REFRESH-INTERVAL;VALUE=DURATION:PT1H
X-Robots-Tag:noindex
X-PUBLISHED-TTL:PT1H
BEGIN:VTIMEZONE
TZID:America/New_York
BEGIN:DAYLIGHT
TZOFFSETFROM:-0500
TZOFFSETTO:-0400
TZNAME:EDT
DTSTART:20240310T070000
END:DAYLIGHT
BEGIN:STANDARD
TZOFFSETFROM:-0400
TZOFFSETTO:-0500
TZNAME:EST
DTSTART:20241103T060000
END:STANDARD
END:VTIMEZONE
BEGIN:VEVENT
DTSTART;TZID=America/New_York:20240608T130000
DTEND;TZID=America/New_York:20240608T150000
DTSTAMP:20260419T112826
CREATED:20240131T185839Z
LAST-MODIFIED:20240426T233249Z
UID:10000715-1717851600-1717858800@berlinfirstbaptist.com
SUMMARY:Student Ministry- Messy Games
DESCRIPTION:Fun for youth grades 6-12\, Messy games at Berlin First Baptist Church.
URL:https://berlinfirstbaptist.com/event/student-scavenger-hunt/
END:VEVENT
END:VCALENDAR